BEGIN:VCALENDAR
VERSION:2.0
PRODID:-//ChamberMaster//Event Calendar 2.0//EN
METHOD:PUBLISH
X-PUBLISHED-TTL:P3D
REFRESH-INTERVAL:P3D
CALSCALE:GREGORIAN
BEGIN:VEVENT
DTSTART:20230325T170000Z
DTEND:20230325T200000Z
X-MICROSOFT-CDO-ALLDAYEVENT:FALSE
SUMMARY:1st Annual Handbag Bingo
DESCRIPTION:Evolve KidsCare is hosting our 1st Annual Handbag BINGO in support of children and families in substance use recovery!\n\n\n\nBring your family and friends for a night of charitable fun and the chance to win some great prizes!\n\nFor purchase\; enjoy delicious food and baked goods\n\n16 games\, 2 Specials\, 50/50 raffle\, silent auctions\, and door prizes!
X-ALT-DESC;FMTTYPE=text/html:<div>Evolve KidsCare is hosting our <strong>1st Annual Handbag BINGO</strong> in support of children and families in substance use recovery!</div>\n\n<div><br />\n<span style="font-family:arial\,helvetica neue\,helvetica\,sans-serif">Bring your family and friends for a night of charitable fun and the chance to win some great prizes!</span></div>\n\n<p><span style="font-family:arial\,helvetica neue\,helvetica\,sans-serif"><span style="font-size:13px">For purchase\; enjoy delicious food and baked goods</span></span></p>\n\n<div><span style="font-family:arial\,helvetica neue\,helvetica\,sans-serif"><span style="font-size:13px">16 games\, 2 Specials\, 50/50 raffle\, silent auctions\, and door prizes!</span></span></div>\n
LOCATION:Riviera Beach Volunteer Fire Department 8506 Ft. Smallwood Rd Pasadena\, MD
UID:e.2745.4068
SEQUENCE:3
DTSTAMP:20260421T195531Z
URL:https://dev.annearundelchamber.org/events/details/1st-annual-handbag-bingo-4068
END:VEVENT

END:VCALENDAR
