BEGIN:VCALENDAR
VERSION:2.0
PRODID:-//ChamberMaster//Event Calendar 2.0//EN
METHOD:PUBLISH
X-PUBLISHED-TTL:P3D
REFRESH-INTERVAL:P3D
CALSCALE:GREGORIAN
BEGIN:VEVENT
DTSTART:20191017T220000Z
DTEND:20191018T010000Z
X-MICROSOFT-CDO-ALLDAYEVENT:FALSE
SUMMARY:2019 Business Hall of Fame Dinner
DESCRIPTION:The Business Hall of Fame Dinner\, presented by Southwest Airlines\, will bring together hundreds of Annapolis' most prominent business leaders\, will recognize several individuals for their extensive achievements and commitment to the local community. In particular\, the Chamber will be inducting four members into the Business Hall of Fame and will also be presenting several other awards.  This year's Inductees include:\n\n	Debbie Gosselin\, Watermark\n	Judi Herrmann\, Advertising | Branding | Technology\n	Alan Hyatt\, Hyatt & Weber\, P.A.\n	Stephen Samaras\, Zachary's Jewelers\n\nThe Chamber is also pleased to present the following awards at the Dinner:\n\n\n\nSmall Business of the Year WRNR Radio\n\nNon-Profit Organization Anne Arundel County Food Bank\n\nBusiness Leader of the Year Brian Gibbons\n\nCorporate Citizenship Award Homestead Gardens\n\nGreen Business of the Year Annapolis Green
X-ALT-DESC;FMTTYPE=text/html:<span style="font-family:arial\;">The Business Hall of Fame Dinner\, presented by Southwest Airlines\, will bring together hundreds of Annapolis&rsquo\; most prominent business leaders\, will recognize several individuals for their extensive achievements and commitment to the local community. In particular\, t<em><span style="font-style:normal\;"><span style="color:black\;">he Chamber will be </span></span></em>inducting four members into the Business Hall of Fame and will also be presenting several other awards.&nbsp\; This year&#39\;s Inductees include:</span>\n<ul>\n	<li><span style="font-family:arial\;">Debbie Gosselin\, Watermark</span></li>\n	<li><span style="font-family:arial\;">Judi Herrmann\, Advertising | Branding | Technology</span></li>\n	<li><span style="font-family:arial\;">Alan Hyatt\, Hyatt &amp\; Weber\, P.A.</span></li>\n	<li><span style="font-family:arial\;">Stephen Samaras\, Zachary&rsquo\;s Jewelers</span></li>\n</ul>\nThe Chamber is also pleased to present the following awards at the Dinner:<br />\n<br />\nSmall Business of the Year&mdash\;WRNR Radio<br />\nNon-Profit Organization&mdash\;Anne Arundel County Food Bank<br />\nBusiness Leader of the Year&mdash\;Brian Gibbons<br />\nCorporate Citizenship Award&mdash\;Homestead Gardens<br />\nGreen Business of the Year&mdash\;Annapolis Green<br />\n&nbsp\;
LOCATION:Double Tree Hotel 210 Holiday Court Annapolis
UID:e.2745.1365
SEQUENCE:3
DTSTAMP:20260424T011945Z
URL:https://dev.annearundelchamber.org/events/details/2019-business-hall-of-fame-dinner-1365
END:VEVENT

END:VCALENDAR
