BEGIN:VCALENDAR
VERSION:2.0
PRODID:-//ChamberMaster//Event Calendar 2.0//EN
METHOD:PUBLISH
X-PUBLISHED-TTL:P3D
REFRESH-INTERVAL:P3D
CALSCALE:GREGORIAN
BEGIN:VEVENT
DTSTART:20221210T150000Z
DTEND:20221210T190000Z
X-MICROSOFT-CDO-ALLDAYEVENT:FALSE
SUMMARY:2022 Holiday Extravaganza
DESCRIPTION:Come join Macaroni KID Annapolis in celebrating Christmas\, Hanukkah\, and Kwanzaa at the 2022 Holiday Extravaganza. We can't wait to see you and your family for our celebration of December holidays.\n\n	Create crafts with Artworks Studio\n	Make reindeer food\n	Play games\, including Dreidel\n	Participate in activities representing Hanukkah\, Kwanzaa\, and Christmas\n	Enjoy our hot cocoa bar\n	Decorate cookies\n	Meet one of Santa's helpers\n	Watch performers from the Annapolis Musical Theater Company\n	Bring a letter to put in Santa's mailbox or make one during the event.\n	Each ticket holder will receive a gift bag with promotional items from local businesses and organization. You will need the bags to put your goodies in from the event as you walk around to each station/table. Thank you to Pigtails and Crewcuts Annapolis for donating the bags. \n\n \n\nRumor has it the Green Grumpy Guy might drop by to try to ruin the event.\n\n \n\n \n\n\n\nBusiness Sponsors and Volunteers Needed!\n\n\n\nMORE INFORMATION ABOUT EVENT AND SPONSORSHIP\nhttps://annapolis.macaronikid.com/articles/636e6f9ff0ae3d7cc3e2886d/2022-holiday-extravaganza-in-annapolis
X-ALT-DESC;FMTTYPE=text/html:<span style="color:rgb(51\, 51\, 51)\; font-family:sans-serif\,arial\,verdana\,trebuchet ms\; font-size:14px"><span style="background-color:rgba(255\, 255\, 255\, 0.65)\; font-family:lato\,arial\,sans-serif">Come join Macaroni KID Annapolis in celebrating Christmas\, Hanukkah\, and Kwanzaa at the 2022 Holiday Extravaganza. We can&#39\;t wait to see you and your family for our celebration of December holidays.</span></span>\n<ul>\n	<li><span style="font-size:14px">Create crafts with Artworks Studio</span></li>\n	<li><span style="font-size:14px">Make reindeer food</span></li>\n	<li><span style="font-size:14px">Play games\, including Dreidel</span></li>\n	<li><span style="font-size:14px">Participate in activities representing Hanukkah\, Kwanzaa\, and Christmas</span></li>\n	<li><span style="font-size:14px">Enjoy our hot cocoa bar</span></li>\n	<li><span style="font-size:14px">Decorate cookies</span></li>\n	<li><span style="font-size:14px">Meet one of Santa&#39\;s helpers</span></li>\n	<li><span style="font-size:14px">Watch performers from the Annapolis Musical Theater Company</span></li>\n	<li><span style="font-size:14px">Bring a letter to put in Santa&#39\;s mailbox or make one during the event.</span></li>\n	<li><span style="font-size:14px">Each ticket holder will receive a gift bag with promotional items from local businesses and organization. You will need the bags to put your goodies in from the event as you walk around to each station/table. Thank you to Pigtails and Crewcuts Annapolis for donating the bags.&nbsp\;</span></li>\n</ul>\n&nbsp\;<br />\n<span style="font-size:14px">Rumor has it the Green Grumpy Guy might drop by to try to ruin the event.</span>\n\n<p>&nbsp\;</p>\n\n<p>&nbsp\;</p>\n\n<p><br />\n<span style="font-size:14px"><strong>Business Sponsors and Volunteers Needed!</strong><br />\n<br />\n<span style="color:rgb(0\, 0\, 255)"><strong>MORE INFORMATION ABOUT EVENT AND SPONSORSHIP</strong></span></span></p>\n<a href="https://annapolis.macaronikid.com/articles/636e6f9ff0ae3d7cc3e2886d/2022-holiday-extravaganza-in-annapolis" style="color: rgb(7\, 130\, 193)\; font-family: sans-serif\, Arial\, Verdana\, &quot\;Trebuchet MS&quot\;\; font-size: 13px\;">https://annapolis.macaronikid.com/articles/636e6f9ff0ae3d7cc3e2886d/2022-holiday-extravaganza-in-annapolis</a>
LOCATION:Caliente Grill - 907 Bay Ridge Road\, Annapolis Most activities will be inside but weather permitting we will have some outside. Dress for the weather.
UID:e.2745.4015
SEQUENCE:3
DTSTAMP:20260421T223708Z
URL:https://dev.annearundelchamber.org/events/details/2022-holiday-extravaganza-4015
END:VEVENT

END:VCALENDAR
