BEGIN:VCALENDAR
VERSION:2.0
PRODID:-//ChamberMaster//Event Calendar 2.0//EN
METHOD:PUBLISH
X-PUBLISHED-TTL:P3D
REFRESH-INTERVAL:P3D
CALSCALE:GREGORIAN
BEGIN:VEVENT
DTSTART:20220518T110000Z
DTEND:20220518T130000Z
X-MICROSOFT-CDO-ALLDAYEVENT:FALSE
SUMMARY:25th Annual Bike to Work Main Event
DESCRIPTION:Bike rides to any location are eligible for participation in the free event including biking to the store\, the playground\, around the neighborhood\, and to work or school. Community members are encouraged to Bike There!\n\nThe 25th annual Bike to Work celebration is scheduled for Monday\, May 16   Sunday\, May 22\, 2022. Community members who register and bike during the event can pick up a free t-shirt and giveaway items at pick up places throughout the region.
X-ALT-DESC;FMTTYPE=text/html:<p>Bike rides to any location are eligible for participation in the free event including biking to the store\, the playground\, around the neighborhood\, and to work or school. Community members are encouraged to Bike There!</p>\n\n<p>The 25th annual Bike to Work celebration is scheduled for Monday\, May 16 &ndash\; Sunday\, May 22\, 2022. Community members who register and bike during the event can pick up a free t-shirt and giveaway items at pick up places throughout the region.</p>\n
LOCATION:Susan B Campbell Park - Dock Street Annapolis
UID:e.2745.3921
SEQUENCE:3
DTSTAMP:20260422T090552Z
URL:https://dev.annearundelchamber.org/events/details/25th-annual-bike-to-work-main-event-3921
END:VEVENT

END:VCALENDAR
