BEGIN:VCALENDAR
VERSION:2.0
PRODID:-//ChamberMaster//Event Calendar 2.0//EN
METHOD:PUBLISH
X-PUBLISHED-TTL:P3D
REFRESH-INTERVAL:P3D
CALSCALE:GREGORIAN
BEGIN:VEVENT
DTSTART:20191020T200000Z
DTEND:20191020T213000Z
X-MICROSOFT-CDO-ALLDAYEVENT:FALSE
SUMMARY:A Singable Feast
DESCRIPTION:This fall\, Easton Choral Arts Society will present "A Singable Feast". From appetizers and ale to cakes and coffee\, this concert will leave patrons hungry\, with songs about food from the classics\, Broadway and jazz. Featured will be the hilarious PDQ Bach work\, The Seasonings\, written by Peter Schickele. \n\nThe Seasonings\, is a satirical rendition of Haydn's oratorio The Seasons. The four seasons of Haydn's work are now replaced by seasonings such as tarragon\, leeks\, sesame and curry and incorporated into a story about the search for the perfect ingredients for a recipe. The result is a tasty musical  smorgasbord!\n\nThe concert's repertoire also includes Jacques Offenbach's\, "The Recipe" which may entice patrons to bake a cake\, while "Coffee in a Cardboard Cup"\, by the composers of Cabaret\, will tickle your funny bone. Also included are  works by John Rutter\, and Sigmund Romberg.
X-ALT-DESC;FMTTYPE=text/html:<p style="text-align:justify">This fall\, Easton Choral Arts Society will present <strong>&ldquo\;A Singable Feast&rdquo\;.</strong> From appetizers and ale to cakes and coffee\, this concert will leave patrons hungry\, with songs about food from the classics\, Broadway and jazz. Featured will be the hilarious PDQ Bach work\, <em>The Seasonings</em>\, written by Peter Schickele.&nbsp\;</p>\n\n<p style="text-align:justify"><em>The Seasonings</em>\, is a satirical rendition of Haydn&rsquo\;s oratorio <em>The Seasons. </em>The four seasons of Haydn&#39\;s work are now replaced by seasonings such as tarragon\, leeks\, sesame and curry and incorporated into a story about the search for the perfect ingredients for a recipe. The result is a tasty musical&nbsp\; smorgasbord!</p>\n\n<p style="text-align:justify">The concert&rsquo\;s repertoire also includes Jacques Offenbach&#39\;s\, &ldquo\;The Recipe&rdquo\; which may entice patrons to bake a cake\, while &ldquo\;Coffee in a Cardboard Cup&rdquo\;\, by the composers of Cabaret\, will tickle your funny bone. Also included are&nbsp\; works by John Rutter\, and Sigmund Romberg.</p>\n
LOCATION:Christ Church Easton 111 So. Harrison St. Easton\, MD 21601
UID:e.2745.1371
SEQUENCE:3
DTSTAMP:20260424T011701Z
URL:https://dev.annearundelchamber.org/events/details/a-singable-feast-10-20-2019-1371
END:VEVENT

END:VCALENDAR
