BEGIN:VCALENDAR
VERSION:2.0
PRODID:-//ChamberMaster//Event Calendar 2.0//EN
METHOD:PUBLISH
X-PUBLISHED-TTL:P3D
REFRESH-INTERVAL:P3D
CALSCALE:GREGORIAN
BEGIN:VEVENT
DTSTART:20211217T164500Z
DTEND:20211217T170000Z
X-MICROSOFT-CDO-ALLDAYEVENT:FALSE
SUMMARY:Always Ice Cream Ribbon Cutting
DESCRIPTION:Please join us in celebrating Always Ice Cream's Grand Opening & Ribbon Cutting at their newest location in Edgewater!
X-ALT-DESC;FMTTYPE=text/html:Please join us in celebrating Always Ice Cream&#39\;s Grand Opening &amp\; Ribbon Cutting at their newest location in Edgewater!<br />\n<br />\n&nbsp\;
LOCATION:129 a Mitchells Chance Rd Edgewater\, MD 21037
UID:e.2745.3856
SEQUENCE:3
DTSTAMP:20260422T143920Z
URL:https://dev.annearundelchamber.org/events/details/always-ice-cream-ribbon-cutting-3856
END:VEVENT

END:VCALENDAR
