BEGIN:VCALENDAR
VERSION:2.0
PRODID:-//ChamberMaster//Event Calendar 2.0//EN
METHOD:PUBLISH
X-PUBLISHED-TTL:P3D
REFRESH-INTERVAL:P3D
CALSCALE:GREGORIAN
BEGIN:VEVENT
DTSTART:20230610T140000Z
DTEND:20230610T180000Z
X-MICROSOFT-CDO-ALLDAYEVENT:FALSE
SUMMARY:Annapolis ARTS DAY
DESCRIPTION:A celebration of the arts with extended dialogue with artists and arts organizations in Anne Arundel County brought to you by Maryland Hall\, Visit Annapolis\, & AND Creative! DATE & TIME Saturday\, June 10\, 2023 10:00 am - 2:00 pm Share Options Annapolis Arts Day: Slowing Down and Expanding Our Vision! At 12 PM\, enjoy a Ribbon Cutting Ceremony in celebration of the opening of the Sound + Light Project by Craig Colorusso. Also\, throughout the day\, enjoy performances\, a yoga event at the SUN BOXES installation\, food trucks\, and a performance from the artist himself\, Craig Colorusso! EXHIBITIONS: Martino Gallery: Community 23 Arts Council of Anne Arundel County & AND Creative Studio SOUND + LIGHT by Craig Colorusso Chaney Gallery: CUBEMUSIC SUN BOXES Campus Installation: June 4th - 10th THE PATH OF THE BUMBLEBEE Permanent Campus Installation: June 3rd Sponsored by Nature Sacred\, Craig Colorusso is Maryland Hall Artist in Residence from June 3rd - June 12th\, 2023. During Craig Colorusso's residency at Maryland Hall\, participate in two free sunrise yoga sessions sponsored by True Yoga in our front yard at the SUN BOXES installation. Wednesday\, June 7th at 7:30 AM Saturday\, June 10th at 7:30 AM Instructors: Emily Vendemmia & Kate Flewelling
X-ALT-DESC;FMTTYPE=text/html:A celebration of the arts with extended dialogue with artists and arts organizations in Anne Arundel County brought to you by Maryland Hall\, Visit Annapolis\, &amp\; AND Creative! DATE &amp\; TIME Saturday\, June 10\, 2023 10:00 am - 2:00 pm Share Options Annapolis Arts Day: Slowing Down and Expanding Our Vision! At 12 PM\, enjoy a Ribbon Cutting Ceremony in celebration of the opening of the Sound + Light Project by Craig Colorusso. Also\, throughout the day\, enjoy performances\, a yoga event at the SUN BOXES installation\, food trucks\, and a performance from the artist himself\, Craig Colorusso! EXHIBITIONS: Martino Gallery: Community 23 Arts Council of Anne Arundel County &amp\; AND Creative Studio SOUND + LIGHT by Craig Colorusso Chaney Gallery: CUBEMUSIC SUN BOXES Campus Installation: June 4th - 10th THE PATH OF THE BUMBLEBEE Permanent Campus Installation: June 3rd Sponsored by Nature Sacred\, Craig Colorusso is Maryland Hall Artist in Residence from June 3rd - June 12th\, 2023. During Craig Colorusso&#39\;s residency at Maryland Hall\, participate in two free sunrise yoga sessions sponsored by True Yoga in our front yard at the SUN BOXES installation. Wednesday\, June 7th at 7:30 AM Saturday\, June 10th at 7:30 AM Instructors: Emily Vendemmia &amp\; Kate Flewelling
LOCATION:Maryland Hall for the Creative Arts
UID:e.2745.4128
SEQUENCE:3
DTSTAMP:20260421T160043Z
URL:https://dev.annearundelchamber.org/events/details/annapolis-arts-day-4128
END:VEVENT

END:VCALENDAR
