BEGIN:VCALENDAR
VERSION:2.0
PRODID:-//ChamberMaster//Event Calendar 2.0//EN
METHOD:PUBLISH
X-PUBLISHED-TTL:P3D
REFRESH-INTERVAL:P3D
CALSCALE:GREGORIAN
BEGIN:VEVENT
DTSTART:20220704T233000Z
DTEND:20220705T020000Z
X-MICROSOFT-CDO-ALLDAYEVENT:FALSE
SUMMARY:Annapolis Fireworks Cruises -Annapolis- July 3rd & 4th\, 2022
DESCRIPTION:Step aboard a Watermark boat for the annual Annapolis Fireworks Cruise. On July 4th\, enjoy the City of Annapolis' spectacular Fourth of July fireworks from the best seat in town as you cruise the historic harbor. A selection of delicious complimentary desserts will be available. Alcoholic and non-alcoholic beverages will be available for purchase from our full bar.
X-ALT-DESC;FMTTYPE=text/html:<span style="background-color:rgb(255\, 255\, 255)\; color:rgb(2\, 15\, 20)\; font-family:roboto\,sans-serif\; font-size:18px">Step aboard a Watermark boat for the annual Annapolis Fireworks Cruise. On July 4th\, enjoy the City of Annapolis&#39\; spectacular Fourth of July fireworks from the best seat in town as you cruise the historic harbor. A selection of delicious complimentary desserts will be available. Alcoholic and non-alcoholic beverages will be available for purchase from our full bar.</span>
LOCATION:Annapolis City Dock One Dock St Annapolis\, MD 21401
UID:e.2745.3962
SEQUENCE:3
DTSTAMP:20260422T062133Z
URL:https://dev.annearundelchamber.org/events/details/annapolis-fireworks-cruises-annapolis-july-3rd-4th-2022-3962
END:VEVENT

END:VCALENDAR
