BEGIN:VCALENDAR
VERSION:2.0
PRODID:-//ChamberMaster//Event Calendar 2.0//EN
METHOD:PUBLISH
X-PUBLISHED-TTL:P3D
REFRESH-INTERVAL:P3D
CALSCALE:GREGORIAN
BEGIN:VEVENT
DTSTART:20220421T220000Z
DTEND:20220422T010000Z
X-MICROSOFT-CDO-ALLDAYEVENT:FALSE
SUMMARY:Anniversary Garden Gala
DESCRIPTION:Watermark  is proud to celebrate 50 years of unforgettable journeys. From 1972 to 2022\, Watermark has immersed people in the history\, culture and fun of the Chesapeake Bay area more completely than any tour or charter company\, and we hope to do so for another 50 years! Learn more about Watermark's history here. There will be many ways we celebrate in 2022. The first is an Anniversary Garden Gala in partnership with Historic Annapolis.Watermark and Historic Annapolis are excited to celebrate their respective 50th and 70th anniversaries in 2022. As two pillars of Annapolis\, both organizations are eager to share this special year with the community that made their achievements possible. Enjoy a spring evening in the picturesque William Paca Garden and toast to these organizations' milestones. Partake in creative appetizers from more than a dozen of the area's premier caterers\, and enjoy a glass of bubbly as you stroll the hidden oasis of an English garden.
X-ALT-DESC;FMTTYPE=text/html:Watermark&reg\; is proud to celebrate 50 years of unforgettable journeys. From 1972 to 2022\, Watermark has immersed people in the history\, culture and fun of the Chesapeake Bay area more completely than any tour or charter company\, and we hope to do so for another 50 years! Learn more about Watermark&rsquo\;s history here. There will be many ways we celebrate in 2022. The first is an Anniversary Garden Gala in partnership with Historic Annapolis.Watermark and Historic Annapolis are excited to celebrate their respective 50th and 70th anniversaries in 2022. As two pillars of Annapolis\, both organizations are eager to share this special year with the community that made their achievements possible. Enjoy a spring evening in the picturesque William Paca Garden and toast to these organizations&rsquo\; milestones. Partake in creative appetizers from more than a dozen of the area&rsquo\;s premier caterers\, and enjoy a glass of bubbly as you stroll the hidden oasis of an English garden.
LOCATION:William Paca House and Garden\, 186 Prince George Street Annapolis\,MD 21401
UID:e.2745.3911
SEQUENCE:3
DTSTAMP:20260422T102739Z
URL:https://dev.annearundelchamber.org/events/details/anniversary-garden-gala-3911
END:VEVENT

END:VCALENDAR
