BEGIN:VCALENDAR
VERSION:2.0
PRODID:-//ChamberMaster//Event Calendar 2.0//EN
METHOD:PUBLISH
X-PUBLISHED-TTL:P3D
REFRESH-INTERVAL:P3D
CALSCALE:GREGORIAN
BEGIN:VEVENT
DTSTART;VALUE=DATE:20230924
DTEND;VALUE=DATE:20230925
TRANSP:TRANSPARENT
X-MICROSOFT-CDO-ALLDAYEVENT:TRUE
SUMMARY:Ballet Theatre of Maryland's 45th Anniversary Gala
DESCRIPTION:Learn more about the Ballet Theatre of Maryland and celebrate our Sapphire Year at our gala! Enjoy delicious food and drinks from Acqua al 2 with authentic Tuscan cuisine while enjoying a small performance by our company dancers and the opportunity to bid on silent auction items! \n\n\nSince Nicole Kelsch was appointed Artistic Director in July 2020\, the Ballet Theatre of Maryland has been able to bring new and exciting ballets into the company's repertoire. Some of the favorites include Giselle\, Les Sylphides\, and Don Quixote! Along with new ballets\, the company has welcomed guest choreographers such as Meagan Helman\, Keith Lee\, Roman Mykyta\, and Ashley Taylor! For the 2023/2024 season\, BTM is excited to premiere new ballets: The Firebird and Sleeping Beauty!\n\n\n\nFor our 45th Anniversary Gala\, we are raising money to continue to bring in new and exciting ballets for YOU to enjoy! Grow with us as we continue to expand our company repertoire!
X-ALT-DESC;FMTTYPE=text/html:<p><span style="font-family:avenir-lt-w01_35-light1475496\,avenir-lt-w05_35-light\,sans-serif">Learn more about the Ballet Theatre of Maryland and celebrate our Sapphire Year at our gala! Enjoy delicious food and drinks from Acqua al 2 with authentic Tuscan cuisine while enjoying a small performance by our company dancers and the opportunity to bid on silent auction items!&nbsp\;</span></p>\n\n<div style="background:transparent\; border:0px\; padding:0px">\n<p style="text-align: center\;"><span style="font-family:avenir-lt-w01_35-light1475496\,avenir-lt-w05_35-light\,sans-serif">Since Nicole Kelsch was appointed Artistic Director in July 2020\, the Ballet Theatre of Maryland has been able to bring new and exciting ballets into the company&#39\;s repertoire. Some of the favorites include Giselle\, Les Sylphides\, and Don Quixote! Along with new ballets\, the company has welcomed guest choreographers such as Meagan Helman\, Keith Lee\, Roman Mykyta\, and Ashley Taylor! For the 2023/2024 season\, BTM is excited to premiere new ballets: The Firebird and Sleeping Beauty!</span></p>\n</div>\n\n<div style="background:transparent\; border:0px\; padding:0px">\n<p style="text-align: center\;">For our 45th Anniversary Gala\, we are raising money to continue to bring in new and exciting ballets for YOU to enjoy! Grow with us as we continue to expand our company repertoire!</p>\n</div>\n
LOCATION:Acqua al 2 236 Main St Annapolis\, MD 21401
UID:e.2745.4163
SEQUENCE:3
DTSTAMP:20260421T104742Z
URL:https://dev.annearundelchamber.org/events/details/ballet-theatre-of-maryland-s-45th-anniversary-gala-4163
END:VEVENT

END:VCALENDAR
