BEGIN:VCALENDAR
VERSION:2.0
PRODID:-//ChamberMaster//Event Calendar 2.0//EN
METHOD:PUBLISH
X-PUBLISHED-TTL:P3D
REFRESH-INTERVAL:P3D
CALSCALE:GREGORIAN
BEGIN:VEVENT
DTSTART:20230515T040000Z
DTEND:20230519T160000Z
X-MICROSOFT-CDO-ALLDAYEVENT:FALSE
SUMMARY:Bike to Work Day
DESCRIPTION:Registration is free on BiketoWorkMD.com\, and registrants will receive a free t-shirt* and be entered for a chance to win cool prizes! Come meet & greet with our County Exec Steuart Pittman and Mayor Gavin
X-ALT-DESC;FMTTYPE=text/html:Registration is free on BiketoWorkMD.com\, and registrants will receive a free t-shirt* and be entered for a chance to win cool prizes! Come meet &amp\; greet with our County Exec Steuart Pittman and Mayor Gavin
LOCATION:Susan B Campbell Park\, Dock ST Annapolis\, MD 21401
UID:e.2745.4080
SEQUENCE:3
DTSTAMP:20260421T160210Z
URL:https://dev.annearundelchamber.org/events/details/bike-to-work-day-4080
END:VEVENT

END:VCALENDAR
