BEGIN:VCALENDAR
VERSION:2.0
PRODID:-//ChamberMaster//Event Calendar 2.0//EN
METHOD:PUBLISH
X-PUBLISHED-TTL:P3D
REFRESH-INTERVAL:P3D
CALSCALE:GREGORIAN
BEGIN:VEVENT
DTSTART:20190801T130000Z
DTEND:20190801T143000Z
X-MICROSOFT-CDO-ALLDAYEVENT:FALSE
SUMMARY:Breakfast with Balancelogic
DESCRIPTION:Breakfast with Balancelogic is a free seminar which provides breakfast and the chance to network with local businesses. This month\, CEO\, Bill Campbell will discuss how to "Rescue Your Small Business with Digital Marketing." Topics Covered - POEM (Paid\, Owned\, & Earned Media) - Digital Marketing Framework - What are the Right Tactics? - Building a Marketing Campaign
X-ALT-DESC;FMTTYPE=text/html:Breakfast with Balancelogic is a free seminar which provides breakfast and the chance to network with local businesses. This month\, CEO\, Bill Campbell will discuss how to &quot\;Rescue Your Small Business with Digital Marketing.&quot\; Topics Covered - POEM (Paid\, Owned\, &amp\; Earned Media) - Digital Marketing Framework - What are the Right Tactics? - Building a Marketing Campaign
LOCATION:Anne Arundel Chamber of Commerce Conference Room 134 Holiday Ct. Suite 316 Annapolis\, MD 21401
UID:e.2745.1359
SEQUENCE:3
DTSTAMP:20260424T034537Z
URL:https://dev.annearundelchamber.org/events/details/breakfast-with-balancelogic-1359
END:VEVENT

END:VCALENDAR
