BEGIN:VCALENDAR
VERSION:2.0
PRODID:-//ChamberMaster//Event Calendar 2.0//EN
METHOD:PUBLISH
X-PUBLISHED-TTL:P3D
REFRESH-INTERVAL:P3D
CALSCALE:GREGORIAN
BEGIN:VEVENT
DTSTART;VALUE=DATE:20220922
DTEND;VALUE=DATE:20220923
TRANSP:TRANSPARENT
X-MICROSOFT-CDO-ALLDAYEVENT:TRUE
SUMMARY:Car Free Day 2022
DESCRIPTION:Use Transit\, Carpool/Vanpool (Car-Lite)\, Bike\, Scooter\, Walk\, or Telework\n\nTake the pledge\, even if you're already car free.\n\n \n\nCar Free Day is a worldwide event that encourages greener methods of travel\; meaning ways to get around other than driving alone by car.  Commuter Connections hosts Car Free Day in the Washington\, DC region to bring awareness to the benefits of travel options such as transit\, bicycling and walking\; and also telework for people who can work from home. Carpooling and vanpooling count too\, we call that "car-lite" since they are both lighter on the wallet and the environment than driving alone in a car.\n\nReduce your Carbon Footprint\n\nUsing more sustainable ways to get around helps reduce harmful greenhouse gas emissions and traffic congestion. The more people who travel using bicycles\, buses\, trains\, carpools and vanpools\, the fewer pollutants are released into the atmosphere.\n\n\n\n\n\nCHOOSE THE TRAVEL METHOD\n\nTHAT FITS YOUR MOBILITY BEST\n\n \n\nTake the Pledge!\n\nAll are welcome to take the Car Free Day pledge whether you're a Washington DC area resident\, commuter\, or student.  Once you take the Online Pledge\, we will automatically enter you into a raffle for all sorts of great prizes. Click on the image below and choose the travel method that fits your mobility best!
X-ALT-DESC;FMTTYPE=text/html:<div>\n<div>\n<h5 style="text-align:center">Use Transit\, Carpool/Vanpool (Car-Lite)\, Bike\, Scooter\, Walk\, or Telework</h5>\n\n<h5 style="text-align:center">Take the pledge\, even if you&rsquo\;re already car free.</h5>\n\n<p>&nbsp\;</p>\n\n<p>Car Free Day is a worldwide event that encourages greener methods of travel\; meaning ways to get around other than driving alone by car.&nbsp\; Commuter Connections hosts Car Free Day in the Washington\, DC region to bring awareness to the benefits of travel options such as transit\, bicycling and walking\; and also telework for people who&nbsp\;can work from home. Carpooling and vanpooling count too\, we call that &ldquo\;car-lite&rdquo\; since they are both lighter on the wallet and the environment than driving alone in a car.</p>\n\n<p style="text-align:center"><strong>Reduce your Carbon Footprint</strong></p>\n\n<p>Using more sustainable ways to get around helps reduce harmful greenhouse gas emissions and traffic congestion. The more people who travel using bicycles\, buses\, trains\, carpools and vanpools\, the fewer pollutants are released into the atmosphere.</p>\n</div>\n</div>\n\n<div>\n<div>\n<div><span style="font-family:calibri\,sans-serif\; font-size:small"><span style="color:rgb(1\, 82\, 148)\; font-size:large"><strong>CHOOSE THE TRAVEL METHOD</strong></span></span></div>\n\n<div><span style="font-family:calibri\,sans-serif\; font-size:small"><span style="color:rgb(1\, 82\, 148)\; font-size:large"><strong>THAT FITS YOUR MOBILITY BEST</strong></span></span></div>\n\n<div><span style="font-family:calibri\,sans-serif\; font-size:small"><span style="color:rgb(1\, 82\, 148)\; font-size:large">&nbsp\;</span></span>\n\n<p style="text-align:center"><strong>Take the Pledge!</strong></p>\n\n<p>All are welcome to take the Car Free Day pledge whether you&rsquo\;re a Washington DC area resident\, commuter\, or student.&nbsp\; Once you take the Online Pledge\, we will automatically enter you into a raffle for all sorts of great prizes. Click on the image below and choose the travel method that fits your mobility best!</p>\n</div>\n</div>\n</div>\n
LOCATION:
UID:e.2745.3990
SEQUENCE:3
DTSTAMP:20260422T024020Z
URL:https://dev.annearundelchamber.org/events/details/car-free-day-2022-3990
END:VEVENT

END:VCALENDAR
