BEGIN:VCALENDAR
VERSION:2.0
PRODID:-//ChamberMaster//Event Calendar 2.0//EN
METHOD:PUBLISH
X-PUBLISHED-TTL:P3D
REFRESH-INTERVAL:P3D
CALSCALE:GREGORIAN
BEGIN:VEVENT
DTSTART:20210720T220000Z
DTEND:20210721T010000Z
X-MICROSOFT-CDO-ALLDAYEVENT:FALSE
SUMMARY:Caribbean Vibes on the Chesapeake Cruise
DESCRIPTION:Enjoy a leisurely 3-hour sunset cruise on the Chesapeake to the tune of live music from steel drum band\, Caribbean Vibes. Beverages and snacks will be available for purchase from our full bar
X-ALT-DESC;FMTTYPE=text/html:<span style="background-color:rgb(255\, 255\, 255)\; color:rgb(2\, 15\, 20)\; font-family:roboto\,sans-serif\; font-size:18px">Enjoy a leisurely 3-hour sunset cruise on the Chesapeake to the tune of live music from steel drum band\, Caribbean Vibes. Beverages and snacks will be available for purchase from our full bar</span>
LOCATION:Annapolis City Dock One Dock St Annapolis\, MD 21037
UID:e.2745.3777
SEQUENCE:3
DTSTAMP:20260422T213113Z
URL:https://dev.annearundelchamber.org/events/details/caribbean-vibes-on-the-chesapeake-cruise-3777
END:VEVENT

END:VCALENDAR
