BEGIN:VCALENDAR
VERSION:2.0
PRODID:-//ChamberMaster//Event Calendar 2.0//EN
METHOD:PUBLISH
X-PUBLISHED-TTL:P3D
REFRESH-INTERVAL:P3D
CALSCALE:GREGORIAN
BEGIN:VEVENT
DTSTART:20220806T170000Z
DTEND:20220806T220000Z
X-MICROSOFT-CDO-ALLDAYEVENT:FALSE
SUMMARY:Cheers to AACPL - Hysteria Taphouse
DESCRIPTION:Forward Brewing\, Crooked Crab Brewing Co. and Hysteria Taphouse have joined forces yet again to celebrate the library! Each brewery has created an exclusive libation. 20% of all on-site sales during the release events\, listed below\, will be donated to the library to support enhancements at all 16 branches. August 2\, 5-8pm - Forward Brewing August 4\, 5-8pm - Crooked Crab Brewing August 6\, 1-6pm - Hysteria Taphouse Yes\, we will have a new custom pint glass this year! Pint glasses will be a complimentary gift with a $10 donation or more.
X-ALT-DESC;FMTTYPE=text/html:Forward Brewing\, Crooked Crab Brewing Co. and Hysteria Taphouse have joined forces yet again to celebrate the library! Each brewery has created an exclusive libation. 20% of all on-site sales during the release events\, listed below\, will be donated to the library to support enhancements at all 16 branches. August 2\, 5-8pm - Forward Brewing August 4\, 5-8pm - Crooked Crab Brewing August 6\, 1-6pm - Hysteria Taphouse Yes\, we will have a new custom pint glass this year! Pint glasses will be a complimentary gift with a $10 donation or more.
LOCATION:3201 Mountain Rd\, Pasadena\, MD 21122
UID:e.2745.3971
SEQUENCE:3
DTSTAMP:20260422T050558Z
URL:https://dev.annearundelchamber.org/events/details/cheers-to-aacpl-hysteria-taphouse-3971
END:VEVENT

END:VCALENDAR
