BEGIN:VCALENDAR
VERSION:2.0
PRODID:-//ChamberMaster//Event Calendar 2.0//EN
METHOD:PUBLISH
X-PUBLISHED-TTL:P3D
REFRESH-INTERVAL:P3D
CALSCALE:GREGORIAN
BEGIN:VEVENT
DTSTART:20200603T200000Z
DTEND:20200604T030000Z
X-MICROSOFT-CDO-ALLDAYEVENT:FALSE
SUMMARY:City of Annapolis Dining and Shopping Event
DESCRIPTION:The City of Annapolis is hosting a Citywide Dining and Shopping Under the Stars event. Starts at 4 p.m. with road closures along Main Street\, Market Square\, West Street and Maryland Avenue in downtown and at Bay Ridge Market Shopping Center along Forest Drive. \n\n\n\nCome out to dine out-of-doors in a physically distanced dining event. Call your favorite restaurant for a reservation!
X-ALT-DESC;FMTTYPE=text/html:The City of Annapolis is hosting a Citywide Dining and Shopping Under the Stars event. Starts at 4 p.m. with road closures along Main Street\, Market Square\, West Street and Maryland Avenue in downtown and at Bay Ridge Market Shopping Center along Forest Drive.&nbsp\;<br />\n<br />\nCome out to dine out-of-doors in a physically distanced dining event. Call your favorite restaurant for a reservation!
LOCATION:
UID:e.2745.2676
SEQUENCE:3
DTSTAMP:20260423T143153Z
URL:https://dev.annearundelchamber.org/events/details/city-of-annapolis-dining-and-shopping-event-2676
END:VEVENT

END:VCALENDAR
