BEGIN:VCALENDAR
VERSION:2.0
PRODID:-//ChamberMaster//Event Calendar 2.0//EN
METHOD:PUBLISH
X-PUBLISHED-TTL:P3D
REFRESH-INTERVAL:P3D
CALSCALE:GREGORIAN
BEGIN:VEVENT
DTSTART:20210828T160000Z
DTEND:20210828T200000Z
X-MICROSOFT-CDO-ALLDAYEVENT:FALSE
SUMMARY:Collette Insurance Solutions\, LLC 1 Year Business Anniversary
DESCRIPTION:We will be providing Free food and drinks. Prizes and Goodies. Bring your declaration page to receive a $5 Gift Card.
X-ALT-DESC;FMTTYPE=text/html:We will be providing Free food and drinks. Prizes and Goodies. Bring your declaration page to receive a $5 Gift Card.
LOCATION:801 Compass Way Ste.5 Annapolis\, MD 21401 Heritage Habour Shopping Center
UID:e.2745.3775
SEQUENCE:3
DTSTAMP:20260422T200336Z
URL:https://dev.annearundelchamber.org/events/details/collette-insurance-solutions-llc-1-year-business-anniversary-3775
END:VEVENT

END:VCALENDAR
