BEGIN:VCALENDAR
VERSION:2.0
PRODID:-//ChamberMaster//Event Calendar 2.0//EN
METHOD:PUBLISH
X-PUBLISHED-TTL:P3D
REFRESH-INTERVAL:P3D
CALSCALE:GREGORIAN
BEGIN:VEVENT
DTSTART:20220804T220000Z
DTEND:20220804T230000Z
X-MICROSOFT-CDO-ALLDAYEVENT:FALSE
SUMMARY:Driving\, Doctor Visits\, Legal and Financial Planning
DESCRIPTION:Caring for an aging parent can be stressful\, especially if he/she has memory impairments. Join us for this informative presentation by the Alzheimer's Association about how to tackle driving\, doctor visits\, legal and financial planning.
X-ALT-DESC;FMTTYPE=text/html:Caring for an aging parent can be stressful\, especially if he/she has memory impairments. Join us for this informative presentation by the Alzheimer&#39\;s Association about how to tackle driving\, doctor visits\, legal and financial planning.
LOCATION:Bay Village Assisted Living and Memory Care\, 979 Bay Village Drive\, Annapolis\, MD 21403
UID:e.2745.3965
SEQUENCE:3
DTSTAMP:20260422T035536Z
URL:https://dev.annearundelchamber.org/events/details/driving-doctor-visits-legal-and-financial-planning-3965
END:VEVENT

END:VCALENDAR
