BEGIN:VCALENDAR
VERSION:2.0
PRODID:-//ChamberMaster//Event Calendar 2.0//EN
METHOD:PUBLISH
X-PUBLISHED-TTL:P3D
REFRESH-INTERVAL:P3D
CALSCALE:GREGORIAN
BEGIN:VEVENT
DTSTART:20230427T133000Z
DTEND:20230427T150000Z
X-MICROSOFT-CDO-ALLDAYEVENT:FALSE
SUMMARY:Edward Jones Presentation on Medicare
DESCRIPTION:Please join Crystal S. Barker\, CPF \, CRPC  for a Zoom presentation on Medicare\, co-hosted by Joe Crandall of Mutual of Omaha.  To register and receive log-in details\, please contact us at 410-257-1308.
X-ALT-DESC;FMTTYPE=text/html:Please join Crystal S. Barker\, CPF&reg\;\, CRPC&trade\; for a Zoom presentation on Medicare\, co-hosted by Joe Crandall of Mutual of Omaha.&nbsp\; To register and receive log-in details\, please contact us at 410-257-1308.&nbsp\;&nbsp\;
LOCATION:Delivered via Zoom\, link and log-in provided at upon registration by calling 410-257-1308.
UID:e.2745.4071
SEQUENCE:3
DTSTAMP:20260421T172352Z
URL:https://dev.annearundelchamber.org/events/details/edward-jones-presentation-on-medicare-4071
END:VEVENT

END:VCALENDAR
