BEGIN:VCALENDAR
VERSION:2.0
PRODID:-//ChamberMaster//Event Calendar 2.0//EN
METHOD:PUBLISH
X-PUBLISHED-TTL:P3D
REFRESH-INTERVAL:P3D
CALSCALE:GREGORIAN
BEGIN:VEVENT
DTSTART:20220901T220000Z
DTEND:20220901T230000Z
X-MICROSOFT-CDO-ALLDAYEVENT:FALSE
SUMMARY:Effective Communication Strategies
DESCRIPTION:Talking to a friend or family member about memory loss can be difficult. This outstanding lecture will help guide you through effective ways to have those hard conversations by an expert from the Alzheimer's Association.
X-ALT-DESC;FMTTYPE=text/html:Talking to a friend or family member about memory loss can be difficult. This outstanding lecture will help guide you through effective ways to have those hard conversations by an expert from the Alzheimer&#39\;s Association.
LOCATION:Bay Village Assisted Living and Memory Care\, 979 Bay Village Drive\, Annapolis\, MD 21403
UID:e.2745.3966
SEQUENCE:3
DTSTAMP:20260422T023504Z
URL:https://dev.annearundelchamber.org/events/details/effective-communication-strategies-3966
END:VEVENT

END:VCALENDAR
