BEGIN:VCALENDAR
VERSION:2.0
PRODID:-//ChamberMaster//Event Calendar 2.0//EN
METHOD:PUBLISH
X-PUBLISHED-TTL:P3D
REFRESH-INTERVAL:P3D
CALSCALE:GREGORIAN
BEGIN:VEVENT
DTSTART:20220412T140000Z
DTEND:20220412T150000Z
X-MICROSOFT-CDO-ALLDAYEVENT:FALSE
SUMMARY:Employee Retention Credit Webinar
DESCRIPTION:Webinar: You Received PPP - But How about the Employee Retention Credit? (Many companies are eligible for both)\n\n\n\nDid you know you can still claim the Employee Retention Credit (ERC)\, going all the way back to Q1 2020? Even if you got a PPP Loan!?\n\n\n\nThe business community has been profoundly impacted by the pandemic\, and businesses in Maryland\, and beyond\, have been able to claim the ERC to help maintain their payrolls and navigate the uncertainty. Even if your firm's revenue didn't drop\, you may have experienced a partial suspension in operations that would make you eligible.\n\n\n\nPresented by Toal\, Murray\, Day & Lalor CPA's and Frost Law.
X-ALT-DESC;FMTTYPE=text/html:<strong><span style="font-family:arial\,sans-serif\;"><span style="font-size:10.0pt\;">Webinar: You Received PPP - But How about the Employee Retention Credit? (Many companies are eligible for both)</span></span></strong><br />\n<br />\n<span style="font-family:arial\,sans-serif\;"><span style="font-size:10.0pt\;">Did you know you can still claim the Employee Retention Credit (ERC)\, going all the way back to Q1 2020? Even if you got a PPP Loan!?<br />\n<br />\nThe business community has been profoundly impacted by the pandemic\, and businesses in Maryland\, and beyond\, have been able to claim the ERC to help maintain their payrolls and navigate the uncertainty.&nbsp\;Even if your firm&rsquo\;s revenue didn&rsquo\;t drop\, you may have experienced a partial suspension in operations that would make you eligible.<br />\n<br />\nPresented by Toal\, Murray\, Day &amp\; Lalor CPA&#39\;s and Frost Law.&nbsp\;</span></span>
LOCATION:Anne Arundel Chamber is inviting you to a scheduled Zoom meeting. Topic: Employee Retention Credit Webinar Time: Apr 12\, 2022 10:00 AM Eastern Time (US and Canada) Join Zoom Meeting https://us02web.zoom.us/j/82239496115 Meeting ID: 822 3949 6115 One tap mobile +13017158592\,\,82239496115# US (Washington DC) +16465588656\,\,82239496115# US (New York)
UID:e.2745.3914
SEQUENCE:3
DTSTAMP:20260422T103623Z
URL:https://dev.annearundelchamber.org/events/details/employee-retention-credit-webinar-3914
END:VEVENT

END:VCALENDAR
