BEGIN:VCALENDAR
VERSION:2.0
PRODID:-//ChamberMaster//Event Calendar 2.0//EN
METHOD:PUBLISH
X-PUBLISHED-TTL:P3D
REFRESH-INTERVAL:P3D
CALSCALE:GREGORIAN
BEGIN:VEVENT
DTSTART:20220430T130000Z
DTEND:20220430T160000Z
X-MICROSOFT-CDO-ALLDAYEVENT:FALSE
SUMMARY:Epilepsy Foundation Walk To End Epilepsy
DESCRIPTION:Help raise funds and awareness for people living with epilepsy. This fun\, 1 mile walk will include entertainment and food
X-ALT-DESC;FMTTYPE=text/html:Help raise funds and awareness for people living with epilepsy. This fun\, 1 mile walk will include entertainment and food
LOCATION:Quiet Waters Park 600 Quiet Waters Park Rd. Annapolis\, MD 21403 Holly Pavillion
UID:e.2745.3923
SEQUENCE:3
DTSTAMP:20260422T092348Z
URL:https://dev.annearundelchamber.org/events/details/epilepsy-foundation-walk-to-end-epilepsy-3923
END:VEVENT

END:VCALENDAR
