BEGIN:VCALENDAR
VERSION:2.0
PRODID:-//ChamberMaster//Event Calendar 2.0//EN
METHOD:PUBLISH
X-PUBLISHED-TTL:P3D
REFRESH-INTERVAL:P3D
CALSCALE:GREGORIAN
BEGIN:VEVENT
DTSTART:20210715T153000Z
DTEND:20210715T163000Z
X-MICROSOFT-CDO-ALLDAYEVENT:FALSE
SUMMARY:ESG Investing - Bay Point Wealth
DESCRIPTION:There's been an increasing demand for investments that reflect environmental\, social\, and corporate governance values\, commonly known as ESG. But what do these factors mean for you and your portfolio\, and how can people invest in a way that reflects their values? Attend this informational webinar to find out how investing and sustainability can go hand in hand. On Thursday\, July 15 at 11:30am EDT\, join Lyn Dippel\, JD\, CFP?\, Principal and Advisor at Bay Point Wealth\, and Isabelle Williams\, Investment Strategist at Dimensional Fund Advisors\, for a free webinar on everything you need to know about ESG investing.
X-ALT-DESC;FMTTYPE=text/html:There&rsquo\;s been an increasing demand for investments that reflect environmental\, social\, and corporate governance values\, commonly known as ESG. But what do these factors mean for you and your portfolio\, and how can people invest in a way that reflects their values? Attend this informational webinar to find out how investing and sustainability can go hand in hand. On Thursday\, July 15 at 11:30am EDT\, join Lyn Dippel\, JD\, CFP?\, Principal and Advisor at Bay Point Wealth\, and Isabelle Williams\, Investment Strategist at Dimensional Fund Advisors\, for a free webinar on everything you need to know about ESG investing.
LOCATION:Online\, via Zoom
UID:e.2745.3778
SEQUENCE:3
DTSTAMP:20260422T224618Z
URL:https://dev.annearundelchamber.org/events/details/esg-investing-bay-point-wealth-3778
END:VEVENT

END:VCALENDAR
