BEGIN:VCALENDAR
VERSION:2.0
PRODID:-//ChamberMaster//Event Calendar 2.0//EN
METHOD:PUBLISH
X-PUBLISHED-TTL:P3D
REFRESH-INTERVAL:P3D
CALSCALE:GREGORIAN
BEGIN:VEVENT
DTSTART:20190817T200000Z
DTEND:20190818T010000Z
X-MICROSOFT-CDO-ALLDAYEVENT:FALSE
SUMMARY:Fighting For Kaiden
DESCRIPTION:Join us for an evening of dinner\, music\, dancing and open beer and wine bar\, cash and prize wheels\, silent auction and raffle items and All-You-Can-Eat Shrimp.
X-ALT-DESC;FMTTYPE=text/html:Join us for an evening of dinner\, music\, dancing and open beer and wine bar\, cash and prize wheels\, silent auction and raffle items and All-You-Can-Eat Shrimp.
LOCATION:The Byzantium in Annapolis Riva Road
UID:e.2745.1361
SEQUENCE:3
DTSTAMP:20260424T055618Z
URL:https://dev.annearundelchamber.org/events/details/fighting-for-kaiden-1361
END:VEVENT

END:VCALENDAR
