BEGIN:VCALENDAR
VERSION:2.0
PRODID:-//ChamberMaster//Event Calendar 2.0//EN
METHOD:PUBLISH
X-PUBLISHED-TTL:P3D
REFRESH-INTERVAL:P3D
CALSCALE:GREGORIAN
BEGIN:VEVENT
DTSTART:20220930T220000Z
DTEND:20221001T000000Z
X-MICROSOFT-CDO-ALLDAYEVENT:FALSE
SUMMARY:For the Love of the Library
DESCRIPTION:Enjoy live local music\, delicious food from Chesapeake Chef Service and flowing libations as we come together to raise vital funds to help our libraries provide resources\, programs and literary access for all! You'll be amazed by all your library has to offer. Since 2014\, this cocktail party has raised funds to support the library's early literacy programs\, create collaborative spaces\, connect county residents to technology\, foster community engagement and ensure school readiness for students. Grab your early bird tickets now! $85 per guest through September 9. Guests must be 21 years of age or older. Partnership opportunities available.
X-ALT-DESC;FMTTYPE=text/html:Enjoy live local music\, delicious food from Chesapeake Chef Service and flowing libations as we come together to raise vital funds to help our libraries provide resources\, programs and literary access for all! You&#39\;ll be amazed by all your library has to offer. Since 2014\, this cocktail party has raised funds to support the library&#39\;s early literacy programs\, create collaborative spaces\, connect county residents to technology\, foster community engagement and ensure school readiness for students. Grab your early bird tickets now! $85 per guest through September 9. Guests must be 21 years of age or older. Partnership opportunities available.
LOCATION:Michael E. Busch Annapolis Library 1410 West St\, Annapolis\, MD 21401
UID:e.2745.3982
SEQUENCE:3
DTSTAMP:20260422T024051Z
URL:https://dev.annearundelchamber.org/events/details/for-the-love-of-the-library-3982
END:VEVENT

END:VCALENDAR
