BEGIN:VCALENDAR
VERSION:2.0
PRODID:-//ChamberMaster//Event Calendar 2.0//EN
METHOD:PUBLISH
X-PUBLISHED-TTL:P3D
REFRESH-INTERVAL:P3D
CALSCALE:GREGORIAN
BEGIN:VEVENT
DTSTART:20230921T113000Z
DTEND:20230921T190000Z
X-MICROSOFT-CDO-ALLDAYEVENT:FALSE
SUMMARY:"Give Purpose to Your Game" Golf Tournament
DESCRIPTION:Please join us on Thursday\, September 21\, 2023 at Compass Pointe Golf Course in Pasadena\, MD for our 2nd  Annual Charity Golf Tournament.  \n\nThis is an incredible opportunity to raise needed funds that will help make a difference in the lives of many children & families in our communities.\n\nThis year's event will once again prove to be a spectacular event with great golf\, prizes\, food\, fun and competition.  Our goal is to raise $100\,000 to support our program\, but we can't do it without your help!  Your sponsorship will ensure the children & families in substance use recovery will have the critical support needed to live successfully in communities of their choice.
X-ALT-DESC;FMTTYPE=text/html:<p>Please join us on&nbsp\;<strong>Thursday\, September 21\, 2023</strong>&nbsp\;at&nbsp\;<strong>Compass Pointe Golf Course</strong>&nbsp\;in Pasadena\, MD for our&nbsp\;<strong>2nd&nbsp\;&nbsp\;Annual Charity Golf Tournament</strong>. &nbsp\;<br />\nThis is an incredible opportunity to raise needed funds that will help make a difference in the lives of many children &amp\; families in our communities.</p>\n\n<p>This year&#39\;s event will once again prove to be a spectacular event with great golf\, prizes\, food\, fun and competition.&nbsp\; Our goal is to raise $100\,000 to support our program\, but we can&#39\;t do it without your help!&nbsp\; Your sponsorship will ensure the children &amp\; families in substance use recovery will have the critical support needed to live successfully in communities of their choice.</p>\n
LOCATION:Compass Pointe Golf Course 9010 Ft. Smallwood Road Pasadena\, MD 21122
UID:e.2745.4086
SEQUENCE:3
DTSTAMP:20260421T104623Z
URL:https://dev.annearundelchamber.org/events/details/give-purpose-to-your-game-golf-tournament-4086
END:VEVENT

END:VCALENDAR
