BEGIN:VCALENDAR
VERSION:2.0
PRODID:-//ChamberMaster//Event Calendar 2.0//EN
METHOD:PUBLISH
X-PUBLISHED-TTL:P3D
REFRESH-INTERVAL:P3D
CALSCALE:GREGORIAN
BEGIN:VEVENT
DTSTART:20201117T223000Z
DTEND:20201117T233000Z
X-MICROSOFT-CDO-ALLDAYEVENT:FALSE
SUMMARY:GIVING BACK TO THE COMMUNITY—OUTREACH TIPS FROM NON-PROFIT PROS
DESCRIPTION:In this season of giving\, PRSA Chesapeake invites three regional non-profit leaders to share their outreach strategies: how they enlist volunteers\, find and communicate with donors\, and spread their organizations' missions into the community. In a virtual discussion\, we will find out what has worked for these non-profit pros and what hasn't\, what their "labors of love" have taught them about communications\, and how we can get involved and give back to our community. *** Registration fees for this event and an additional contribution from PRSA Chesapeake will be donated to Anne Arundel Food Bank\, which our chapter has supported in this season for a few years in a row. We encourage attendees to give back in the form of volunteerism or funds to the organizations represented on this panel.
X-ALT-DESC;FMTTYPE=text/html:In this season of giving\, PRSA Chesapeake invites three regional non-profit leaders to share their outreach strategies: how they enlist volunteers\, find and communicate with donors\, and spread their organizations&rsquo\; missions into the community. In a virtual discussion\, we will find out what has worked for these non-profit pros and what hasn&rsquo\;t\, what their &ldquo\;labors of love&rdquo\; have taught them about communications\, and how we can get involved and give back to our community. *** Registration fees for this event and an additional contribution from PRSA Chesapeake will be donated to Anne Arundel Food Bank\, which our chapter has supported in this season for a few years in a row. We encourage attendees to give back in the form of volunteerism or funds to the organizations represented on this panel.
LOCATION:Virtual
UID:e.2745.3497
SEQUENCE:3
DTSTAMP:20260423T081050Z
URL:https://dev.annearundelchamber.org/events/details/giving-back-to-the-community-outreach-tips-from-non-profit-pros-3497
END:VEVENT

END:VCALENDAR
