BEGIN:VCALENDAR
VERSION:2.0
PRODID:-//ChamberMaster//Event Calendar 2.0//EN
METHOD:PUBLISH
X-PUBLISHED-TTL:P3D
REFRESH-INTERVAL:P3D
CALSCALE:GREGORIAN
BEGIN:VEVENT
DTSTART:20210424T233000Z
DTEND:20210425T010000Z
X-MICROSOFT-CDO-ALLDAYEVENT:FALSE
SUMMARY:Handel Choir of Baltimore: Baroque Extravaganza
DESCRIPTION:Join the Handel Choir of Baltimore and savor a century and a half of Baroque treasures from across Europe   Live Online! Baroque music was written to move the passions\, and we promise nothing less for our final concert of the season. Swoon for the lyricism of Monteverdi\, get swept off your feet in dance-crazy France\, and awe at the intellectual grandeur of Bach   and of course\, we'll bring you a Chandos Anthem by our namesake\, Handel! We welcome the Baroque vocalists of Third Practice and period instrument forces for a lively\, historically informed performance\, all live-streamed directly to your home.
X-ALT-DESC;FMTTYPE=text/html:Join the Handel Choir of Baltimore and savor a century and a half of Baroque treasures from across Europe &ndash\; Live Online! Baroque music was written to move the passions\, and we promise nothing less for our final concert of the season. Swoon for the lyricism of Monteverdi\, get swept off your feet in dance-crazy France\, and awe at the intellectual grandeur of Bach &ndash\; and of course\, we&rsquo\;ll bring you a Chandos Anthem by our namesake\, Handel! We welcome the Baroque vocalists of Third Practice and period instrument forces for a lively\, historically informed performance\, all live-streamed directly to your home.
LOCATION:10 Gerard Ave
UID:e.2745.3515
SEQUENCE:3
DTSTAMP:20260423T012633Z
URL:https://dev.annearundelchamber.org/events/details/handel-choir-of-baltimore-baroque-extravaganza-3515
END:VEVENT

END:VCALENDAR
