BEGIN:VCALENDAR
VERSION:2.0
PRODID:-//ChamberMaster//Event Calendar 2.0//EN
METHOD:PUBLISH
X-PUBLISHED-TTL:P3D
REFRESH-INTERVAL:P3D
CALSCALE:GREGORIAN
BEGIN:VEVENT
DTSTART:20201213T003000Z
DTEND:20201213T023000Z
X-MICROSOFT-CDO-ALLDAYEVENT:FALSE
SUMMARY:Handel’s "Messiah": Live Online!
DESCRIPTION:Handel Choir of Baltimore will again perform the baroque master's beloved oratorio in our 86th year! This year's Virtual "Messiah" will continue as one of Baltimore's longest-standing musical traditions (since 1935!) in a way you've never experienced before. Real-time performances of world-class Baroque chamber forces blend with a full virtual choir\, soloists and orchestra\, all livestreamed directly to your computer. Handel Choir and Handel Period Instrument Orchestra Sarah Berger\, soprano Monica Reinagel\, alto Allan Palacios Chan\, tenor Peter Walker\, bass Brian Bartoldus\, conductor This live\, online concert is FREE to our community. For more information\, visit www.handelchoir.org.
X-ALT-DESC;FMTTYPE=text/html:Handel Choir of Baltimore will again perform the baroque master&rsquo\;s beloved oratorio in our 86th year! This year&rsquo\;s Virtual &quot\;Messiah&quot\; will continue as one of Baltimore&rsquo\;s longest-standing musical traditions (since 1935!) in a way you&rsquo\;ve never experienced before. Real-time performances of world-class Baroque chamber forces blend with a full virtual choir\, soloists and orchestra\, all livestreamed directly to your computer. Handel Choir and Handel Period Instrument Orchestra Sarah Berger\, soprano Monica Reinagel\, alto Allan Palacios Chan\, tenor Peter Walker\, bass Brian Bartoldus\, conductor This live\, online concert is FREE to our community. For more information\, visit www.handelchoir.org.
LOCATION:Grace United Methodist Church
UID:e.2745.3493
SEQUENCE:3
DTSTAMP:20260423T065119Z
URL:https://dev.annearundelchamber.org/events/details/handel-s-messiah-live-online-3493
END:VEVENT

END:VCALENDAR
