BEGIN:VCALENDAR
VERSION:2.0
PRODID:-//ChamberMaster//Event Calendar 2.0//EN
METHOD:PUBLISH
X-PUBLISHED-TTL:P3D
REFRESH-INTERVAL:P3D
CALSCALE:GREGORIAN
BEGIN:VEVENT
DTSTART:20220707T220000Z
DTEND:20220707T230000Z
X-MICROSOFT-CDO-ALLDAYEVENT:FALSE
SUMMARY:Healthy Living for Your Brain and Body
DESCRIPTION:Three part educational series starting with healthy living for your brain and body presented by the Alzheimer's Association. Upcoming dates include 8/4/22 and 9/1/22 from 6 pm to 7 pm.
X-ALT-DESC;FMTTYPE=text/html:Three part educational series starting with healthy living for your brain and body presented by the Alzheimer&#39\;s Association. Upcoming dates include 8/4/22 and 9/1/22 from 6 pm to 7 pm.
LOCATION:Bay Village Assisted Living and Memory Care\, 979 Bay Village Drive\, Annapolis\, MD 21403
UID:e.2745.3964
SEQUENCE:3
DTSTAMP:20260422T050558Z
URL:https://dev.annearundelchamber.org/events/details/healthy-living-for-your-brain-and-body-3964
END:VEVENT

END:VCALENDAR
