BEGIN:VCALENDAR
VERSION:2.0
PRODID:-//ChamberMaster//Event Calendar 2.0//EN
METHOD:PUBLISH
X-PUBLISHED-TTL:P3D
REFRESH-INTERVAL:P3D
CALSCALE:GREGORIAN
BEGIN:VEVENT
DTSTART:20191205T213000Z
DTEND:20191205T233000Z
X-MICROSOFT-CDO-ALLDAYEVENT:FALSE
SUMMARY:Holiday Inn Express Open House
DESCRIPTION:Come check out the newly renovated Holiday Inn Express.  There will be beer\, wine\, hors d'oeuvres\, great networking and a tour.
X-ALT-DESC;FMTTYPE=text/html:Come check out the newly renovated Holiday Inn Express.&nbsp\; There will be beer\, wine\, hors d&#39\;oeuvres\, great networking and a tour.
LOCATION:Holiday Inn Express 2451 Riva Road Annapolis\, MD 21401
UID:e.2745.2640
SEQUENCE:3
DTSTAMP:20260423T223609Z
URL:https://dev.annearundelchamber.org/events/details/holiday-inn-express-open-house-2640
END:VEVENT

END:VCALENDAR
