BEGIN:VCALENDAR
VERSION:2.0
PRODID:-//ChamberMaster//Event Calendar 2.0//EN
METHOD:PUBLISH
X-PUBLISHED-TTL:P3D
REFRESH-INTERVAL:P3D
CALSCALE:GREGORIAN
BEGIN:VEVENT
DTSTART:20191203T230000Z
DTEND:20191204T020000Z
X-MICROSOFT-CDO-ALLDAYEVENT:FALSE
SUMMARY:Holiday Mixer 2019
DESCRIPTION:The Holiday Mixer is a time to celebrate and bring our members together one last time before the holidays. This fun and informal holiday reception gives our guests a chance to connect and enjoy some great holiday cheer.  There will be great food\, beverages\, music\, ugly sweaters and holiday ties.
X-ALT-DESC;FMTTYPE=text/html:<span style="font-size: 12pt\; line-height: 107%\; font-family: &quot\;Times New Roman&quot\;\, serif\; background: white\;">The Holiday Mixer is a time to celebrate and bring our members together one last time before the holidays. This fun and informal holiday reception gives our guests a chance to connect and enjoy some great holiday cheer.&nbsp\; There will be great food\, beverages\, music\, ugly sweaters and holiday ties.</span>
LOCATION:Homestead Gardens Davidsonville
UID:e.2745.1373
SEQUENCE:3
DTSTAMP:20260423T223540Z
URL:https://dev.annearundelchamber.org/events/details/holiday-mixer-2019-1373
END:VEVENT

END:VCALENDAR
