BEGIN:VCALENDAR
VERSION:2.0
PRODID:-//ChamberMaster//Event Calendar 2.0//EN
METHOD:PUBLISH
X-PUBLISHED-TTL:P3D
REFRESH-INTERVAL:P3D
CALSCALE:GREGORIAN
BEGIN:VEVENT
DTSTART:20210929T203000Z
DTEND:20210930T020000Z
X-MICROSOFT-CDO-ALLDAYEVENT:FALSE
SUMMARY:Jenkins Group Happy Hour Networking Event
DESCRIPTION:Connect with Like-Minded Individuals\, Build your Business\, and Get to Know More Annapolis Professionals!\n \n\nThis is your opportunity to meet new people and grow your business! Jenkins Group is hosting a happy hour networking event at Forward Brewing Sept\, 29th starting at 4:30pm. Stop in and grab an in-house brewed beer\, one of Forwards amazing appetizers\, and start mingling! Everyone is welcome! \n\nRSVP HERE:\nhttps://www.eventbrite.com/e/happy-hour-and-networking-event-tickets-167642369841
X-ALT-DESC;FMTTYPE=text/html:<div>Connect with Like-Minded Individuals\, Build your Business\, and Get to Know More Annapolis Professionals!</div>\n&nbsp\;\n\n<div>This is your opportunity to meet new people and grow your business! Jenkins Group is hosting a happy hour networking event at Forward Brewing Sept\, 29th starting at 4:30pm. Stop in and grab an in-house brewed beer\, one of Forwards amazing appetizers\, and start mingling! Everyone is welcome!&nbsp\;</div>\n\n<div>RSVP HERE:</div>\nhttps://www.eventbrite.com/e/happy-hour-and-networking-event-tickets-167642369841&nbsp\;
LOCATION:Forward Brewing 418 Fourth St Annapolis\, MD 21403
UID:e.2745.3803
SEQUENCE:3
DTSTAMP:20260422T183054Z
URL:https://dev.annearundelchamber.org/events/details/jenkins-group-happy-hour-networking-event-3803
END:VEVENT

END:VCALENDAR
