BEGIN:VCALENDAR
VERSION:2.0
PRODID:-//ChamberMaster//Event Calendar 2.0//EN
METHOD:PUBLISH
X-PUBLISHED-TTL:P3D
REFRESH-INTERVAL:P3D
CALSCALE:GREGORIAN
BEGIN:VEVENT
DTSTART:20221208T230000Z
DTEND:20221209T030000Z
X-MICROSOFT-CDO-ALLDAYEVENT:FALSE
SUMMARY:Jingle & Mingle Holiday Party
DESCRIPTION:Celebrate the season with your co-workers and friends at the Chamber's all new Holiday Party.  Join us for an evening of Jingling and Mingling at the Atreeum at Soaring Timbers.  \n\n\n\nWe have several options for you to attend the Holiday Party including discounted party packs so you can bring the whole crew!!  We'll have a fantastic silent auction along with our wreath auction.  Proceeds from the wreath auction will be donated to the Bernie House. \n\n\n\nYou will enjoy delicious food\, drinks\, networking and a great mix of holiday music.  Plus\, this year we have added a special holiday cocktail along with a 360 Photo Booth\, there may even be some dancing along with a visit from the big guy from the North Pole.  \n\n\n\nClick Here for Sponsorship & Party Package Details!
X-ALT-DESC;FMTTYPE=text/html:<p>Celebrate the season with your co-workers and friends at the Chamber&#39\;s all new Holiday Party. &nbsp\;Join us for an evening of Jingling and Mingling&nbsp\;at the <em><strong>Atreeum at Soaring Timbers</strong></em>.&nbsp\;&nbsp\;<br />\n<br />\nWe have several options&nbsp\;for you to attend&nbsp\;the Holiday Party including discounted party packs so you can bring the whole crew!!&nbsp\;&nbsp\;We&#39\;ll have a fantastic silent auction along with our wreath auction.&nbsp\; Proceeds from the wreath auction will be donated to the Bernie House.&nbsp\;<br />\n<br />\nYou will enjoy delicious food\, drinks\, networking and a great mix of holiday music.&nbsp\; Plus\,&nbsp\;this year we have added a special holiday cocktail along with a 360 Photo Booth\, there may even be some dancing along with a visit from the big guy from the North Pole. &nbsp\;<br />\n<br />\n<a href="https://chambermaster.blob.core.windows.net/userfiles/UserFiles/chambers/2745/File/HolidayPartyInvitation4.png">Click Here for Sponsorship &amp\; Party Package Details!</a></p>\n
LOCATION:The Atreeum at Soaring Timbers 610 North Bestgate Road Annapolis\, MD 21401
UID:e.2745.4013
SEQUENCE:3
DTSTAMP:20260421T235859Z
URL:https://dev.annearundelchamber.org/events/details/jingle-mingle-holiday-party-4013
END:VEVENT

END:VCALENDAR
