BEGIN:VCALENDAR
VERSION:2.0
PRODID:-//ChamberMaster//Event Calendar 2.0//EN
METHOD:PUBLISH
X-PUBLISHED-TTL:P3D
REFRESH-INTERVAL:P3D
CALSCALE:GREGORIAN
BEGIN:VEVENT
DTSTART;VALUE=DATE:20221016
DTEND;VALUE=DATE:20221017
TRANSP:TRANSPARENT
X-MICROSOFT-CDO-ALLDAYEVENT:TRUE
SUMMARY:Join the Bay Village Walk Team to Fight Alzheimer's
DESCRIPTION:Families facing Alzheimer's and all other dementia need us now more than ever - and with your help\, we can be there for them. Please make a donation or join our team. Together\, we can end Alzheimer's disease.
X-ALT-DESC;FMTTYPE=text/html:Families facing Alzheimer&#39\;s and all other dementia need us now more than ever - and with your help\, we can be there for them. Please make a donation or join our team. Together\, we can end Alzheimer&#39\;s disease.
LOCATION:Sandy Point State Park
UID:e.2745.3967
SEQUENCE:3
DTSTAMP:20260422T024036Z
URL:https://dev.annearundelchamber.org/events/details/join-the-bay-village-walk-team-to-fight-alzheimer-s-3967
END:VEVENT

END:VCALENDAR
