BEGIN:VCALENDAR
VERSION:2.0
PRODID:-//ChamberMaster//Event Calendar 2.0//EN
METHOD:PUBLISH
X-PUBLISHED-TTL:P3D
REFRESH-INTERVAL:P3D
CALSCALE:GREGORIAN
BEGIN:VEVENT
DTSTART;VALUE=DATE:20211210
DTEND;VALUE=DATE:20211215
TRANSP:TRANSPARENT
X-MICROSOFT-CDO-ALLDAYEVENT:TRUE
SUMMARY:Keepin' the Cheer Here Wreath Raffle Benefiting Feed Anne Arundel
DESCRIPTION:The following wreaths will be raffled off at the Annual Holiday Mixer on 12/15 at Homestead Gardens.  You do not have to be present to win.  The remaining wreaths can be purchased at the mixer during the LIVE Auction at the event. ALL PROCEEDS GO DIRECTLY TO FEED ANNE ARUNDEL\n\n\n\nClick the Registration Button Above to Purchase Raffle Tickets to win the wreath(s) of your choice below:\nMade in Maryland \n\nIncludes Maryland Onesie\, rattle\, burp cloth\, socks & ornaments\n\nDream Baby Decor - 508 Chinquapin Round Rd\, Annapolis\n\n\n\nRustic Christmas \n\nIncludes $25 Cabela's Gift Card\n\nHague Quality Water of MD - 814 E College Pkwy\, Annapolis\n\n\n\nBuoys & Bells\n\nIncludes 2 Harbor Queen or Baltimore 45 minute cruises ($45 value) and buoy ($80 Value)  Watermark Tours\, Charters & Cruises located at City Dock - DTA\n\n\n\nPoinsettia Love \n\nZachary's Jewelers - 100 Main Street\, Annapolis\n\n\n\nGreen & Red Traditional \n\nMacaroni Kid - Annapolis\n\n\n\n8-Bit Christmas\n\nAlpha Engineering\n\n\n\nModern Mouse Christmas\n\nIncludes $100 Pest Service Gift Certificate\n\nParamount Pest Services\n\n\n\nUnicorn Dreams\n\niKamCreate - located at HERE a Pop Up Shop on Main St. in DTA\n\n\n\nHome for the Holidays\n\nIncludes $25 Home Depot Gift Card\n\nLiz Montaner & Crew Coldwell Banker \n\n\n\nHomeSTEAD for the Holidays\n\nby Homestead Gardens. Not pictured yet but you know it'll be fabulous!\n\n\nWant to participate in the auction\, enjoy holiday spirits and food from local restaurants and network? To purchase a ticket to the Holiday Mixer\, click here\n\n\n\nTo see them in person and to learn more about the Southwest Airlines Giveaway\, click here\n\n\n\nWant your favorite to win the Facebook Favorite award? Click Here
X-ALT-DESC;FMTTYPE=text/html:The following wreaths will be raffled off at the Annual Holiday Mixer on 12/15 at Homestead Gardens.&nbsp\; You do not have to be present to win.&nbsp\; The remaining wreaths can be purchased at the mixer during the LIVE Auction at the event. <span style="color:#B22222\;"><em><strong>ALL PROCEEDS GO DIRECTLY TO FEED ANNE ARUNDEL</strong></em></span><br />\n<br />\nClick the Registration Button Above to Purchase Raffle Tickets to win the wreath(s) of your choice below:\n<h3><span style="font-size:12px\;"><strong><span style="border:none windowtext 1.0pt\;padding:0in\;"><span style="color:firebrick\;"><span style="font-family:arial\,sans-serif\;">Made in Maryland</span></span></span></strong>&nbsp\;<br />\n<span style="color:#333333\;"><span style="font-family:arial\,sans-serif\;"><strong><span style="border:none windowtext 1.0pt\;padding:0in\;">Includes Maryland Onesie\, rattle\, burp cloth\, socks &amp\; ornaments</span></strong></span></span><br />\n<span style="color:#333333\;"><span style="font-family:arial\,sans-serif\;">Dream Baby Decor -&nbsp\;508 Chinquapin Round Rd\, Annapolis</span></span><br />\n<br />\n<strong><span style="border:none windowtext 1.0pt\;padding:0in\;"><span style="color:firebrick\;"><span style="font-family:arial\,sans-serif\;">Rustic Christmas&nbsp\;</span></span></span></strong><br />\n<span style="color:#333333\;"><span style="font-family:arial\,sans-serif\;"><strong><span style="border:none windowtext 1.0pt\;padding:0in\;">Includes $25 Cabela&#39\;s Gift Card</span></strong></span></span><br />\n<span style="color:#444444\;"><span style="font-family:arial\,sans-serif\;">Hague Quality Water of MD -&nbsp\;814 E College Pkwy\, Annapolis</span></span><br />\n<br />\n<strong><span style="color:firebrick\;"><span style="font-family:arial\,sans-serif\;">Buoys &amp\; Bells</span></span></strong><br />\n<span style="color:#444444\;"><span style="font-family:arial\,sans-serif\;"><strong>Includes 2 Harbor Queen or Baltimore 45 minute cruises ($45 value) and buoy ($80 Value)</strong>&nbsp\;&nbsp\;Watermark Tours\, Charters &amp\; Cruises located at&nbsp\;City Dock - DTA</span></span><br />\n<br />\n<strong><span style="border:none windowtext 1.0pt\;padding:0in\;"><span style="color:firebrick\;"><span style="font-family:arial\,sans-serif\;">Poinsettia Love&nbsp\;</span></span></span></strong><br />\n<span style="color:#444444\;"><span style="font-family:arial\,sans-serif\;">Zachary&#39\;s Jewelers - 100 Main Street\, Annapolis</span></span><br />\n<br />\n<strong><span style="border:none windowtext 1.0pt\;padding:0in\;"><span style="color:firebrick\;"><span style="font-family:arial\,sans-serif\;">Green &amp\; Red Traditional&nbsp\;</span></span></span></strong><br />\n<span style="color:#444444\;"><span style="font-family:arial\,sans-serif\;">Macaroni Kid - Annapolis</span></span><br />\n<br />\n<strong><span style="color:firebrick\;"><span style="font-family:arial\,sans-serif\;">8-Bit Christmas</span></span></strong><br />\n<span style="color:#444444\;"><span style="font-family:arial\,sans-serif\;">Alpha Engineering</span></span><br />\n<br />\n<strong><span style="border:none windowtext 1.0pt\;padding:0in\;"><span style="color:firebrick\;"><span style="font-family:arial\,sans-serif\;">Modern Mouse Christmas</span></span></span></strong><br />\n<span style="color:#333333\;"><span style="font-family:arial\,sans-serif\;"><strong><span style="border:none windowtext 1.0pt\;padding:0in\;">Includes $100 Pest Service Gift Certificate</span></strong></span></span><br />\n<span style="color:#444444\;"><span style="font-family:arial\,sans-serif\;">Paramount Pest Services</span></span><br />\n<br />\n<strong><span style="border:none windowtext 1.0pt\;padding:0in\;"><span style="color:firebrick\;"><span style="font-family:arial\,sans-serif\;">Unicorn Dreams</span></span></span></strong><br />\n<span style="color:#444444\;"><span style="font-family:arial\,sans-serif\;">iKamCreate - located at HERE a Pop Up Shop on Main St. in DTA</span></span><br />\n<br />\n<strong><span style="color:firebrick\;"><span style="font-family:arial\,sans-serif\;">Home for the Holidays</span></span></strong><br />\n<span style="color:#444444\;"><span style="font-family:arial\,sans-serif\;"><strong>Includes $25 Home Depot Gift Card</strong><br />\nLiz Montaner &amp\; Crew Coldwell Banker&nbsp\;</span></span></span><br />\n<br />\n<span style="font-size: 12px\;"><strong><span style="color: firebrick\;"><span style="font-family: arial\, sans-serif\;">HomeSTEAD for the Holidays</span></span></strong><br />\n<span style="color: rgb(68\, 68\, 68)\;"><span style="font-family: arial\, sans-serif\;">by Homestead Gardens. Not pictured yet but you know it&#39\;ll be fabulous!</span></span></span></h3>\n<br />\nWant to participate in the auction\, enjoy holiday spirits and food from local restaurants and network? To purchase a ticket to the Holiday Mixer\, <a href="http://annapolischambermd.chambermaster.com/events/details/annual-holiday-mixer-wreath-decorating-contest-3848" target="_blank">click here</a><br />\n<br />\nTo see them in person and to learn more about the Southwest Airlines Giveaway\, <a href="https://members.annearundelchamber.org/events/details/keeping-the-cheer-here-giveaway-3498" target="_blank">click here</a><br />\n<br />\nWant your favorite to win the Facebook Favorite award? <a href="https://www.facebook.com/media/set/?vanity=AAACChamber&amp\;set=a.4953463601344484">Click Here</a>
LOCATION:
UID:e.2745.3855
SEQUENCE:3
DTSTAMP:20260422T144101Z
URL:https://dev.annearundelchamber.org/events/details/keepin-the-cheer-here-wreath-raffle-benefiting-feed-anne-arundel-3855
END:VEVENT

END:VCALENDAR
