BEGIN:VCALENDAR
VERSION:2.0
PRODID:-//ChamberMaster//Event Calendar 2.0//EN
METHOD:PUBLISH
X-PUBLISHED-TTL:P3D
REFRESH-INTERVAL:P3D
CALSCALE:GREGORIAN
BEGIN:VEVENT
DTSTART:20210708T123000Z
DTEND:20210708T123000Z
X-MICROSOFT-CDO-ALLDAYEVENT:FALSE
SUMMARY:LEADS Group Informational Session
DESCRIPTION:The Anne Arundel Chamber of Commerce is forming two leads groups to give Chamber members the opportunity to meet consistently in a non-competitive and mutually supportive environment to exchange leads and business referrals. The leads groups are  powerful tools for members to cultivate professional relationships\, establish trust\, increase knowledge and build business.  It is like having your own sales team!\n\n\n\nJoin us via Zoom on Thursday\, July 8th to learn more about these industry exclusive networking groups and to how apply.
X-ALT-DESC;FMTTYPE=text/html:The Anne Arundel Chamber of Commerce is forming two leads groups to give Chamber members the opportunity to meet consistently in a non-competitive and mutually supportive environment to exchange leads and business referrals. The leads groups are&nbsp\; powerful tools for members to cultivate professional relationships\, establish trust\, increase knowledge and build business.&nbsp\; It is like having your own sales team!<br />\n<br />\nJoin us via Zoom on Thursday\, July 8th to learn more about these industry exclusive networking groups and to how apply.&nbsp\;&nbsp\;
LOCATION:Anne Arundel Chamber is inviting you to a scheduled Zoom meeting. Join Zoom Meeting https://us02web.zoom.us/j/83332293528 Meeting ID: 833 3229 3528 One tap mobile +13017158592\,\,83332293528# US (Washington DC) +13126266799\,\,83332293528# US (Chicago) Dial by your location +1 301 715 8592 US (Washington DC) +1 312 626 6799 US (Chicago) +1 646 558 8656 US (New York) +1 253 215 8782 US (Tacoma) +1 346 248 7799 US (Houston) +1 669 900 9128 US (San Jose) Meeting ID: 833 3229 3528 Find your local number: https://us02web.zoom.us/u/kb1ORFSxlg
UID:e.2745.3547
SEQUENCE:3
DTSTAMP:20260422T212828Z
URL:https://dev.annearundelchamber.org/events/details/leads-group-informational-session-3547
END:VEVENT

END:VCALENDAR
