BEGIN:VCALENDAR
VERSION:2.0
PRODID:-//ChamberMaster//Event Calendar 2.0//EN
METHOD:PUBLISH
X-PUBLISHED-TTL:P3D
REFRESH-INTERVAL:P3D
CALSCALE:GREGORIAN
BEGIN:VEVENT
DTSTART:20180731T153000Z
DTEND:20180731T170000Z
X-MICROSOFT-CDO-ALLDAYEVENT:FALSE
SUMMARY:LinkedIn Part 2
DESCRIPTION:"Who they Know" and "Everyone Else" Now that you have increased your relationship with your first connections\, it's time to focus on second connections. These are the people your network knows\, but you may not know.... yet. We'll look at search capabilities\, language around introductions\, and understanding how to extend your network beyond your current connections. We'll also talk about target marketing\, centers of influence\, and ranking opportunities. This workshop covers all the people that exist outside your current network\, to include connecting with people all over the world. We'll also dive deeper into target marketing by looking at how to use groups to connect with more of the people you need to know. Finally\, we'll look at some of the more advanced LinedIn strategies\, to include developing your "Top 50" profile. Light lunch will be provided - Please RSVP Presented by Brandon Gulley\, The College Funding Coach
X-ALT-DESC;FMTTYPE=text/html:&quot\;Who they Know&quot\; and &quot\;Everyone Else&quot\; Now that you have increased your relationship with your first connections\, it&#39\;s time to focus on second connections. These are the people your network knows\, but you may not know.... yet. We&#39\;ll look at search capabilities\, language around introductions\, and understanding how to extend your network beyond your current connections. We&#39\;ll also talk about target marketing\, centers of influence\, and ranking opportunities. This workshop covers all the people that exist outside your current network\, to include connecting with people all over the world. We&#39\;ll also dive deeper into target marketing by looking at how to use groups to connect with more of the people you need to know. Finally\, we&#39\;ll look at some of the more advanced LinedIn strategies\, to include developing your &quot\;Top 50&quot\; profile. Light lunch will be provided - Please RSVP Presented by Brandon Gulley\, The College Funding Coach
LOCATION:Anne Arundel County Chamber of Commerce Conference Room 134 Holiday Ct\, Suite 314 Annapolis\, MD 21401
UID:e.2745.1294
SEQUENCE:3
DTSTAMP:20260425T020635Z
URL:https://dev.annearundelchamber.org/events/details/linkedin-part-2-07-31-2018-1294
END:VEVENT

END:VCALENDAR
