BEGIN:VCALENDAR
VERSION:2.0
PRODID:-//ChamberMaster//Event Calendar 2.0//EN
METHOD:PUBLISH
X-PUBLISHED-TTL:P3D
REFRESH-INTERVAL:P3D
CALSCALE:GREGORIAN
BEGIN:VEVENT
DTSTART:20230125T230000Z
DTEND:20230126T003000Z
X-MICROSOFT-CDO-ALLDAYEVENT:FALSE
SUMMARY:Living with Alzheimer's
DESCRIPTION:First of three part series presented by the Alzheimer's Association on the three stages of Alzheimer's Disease\, Early\, Middle\, and Late. Specifically for caregivers.
X-ALT-DESC;FMTTYPE=text/html:First of three part series presented by the Alzheimer&#39\;s Association on the three stages of Alzheimer&#39\;s Disease\, Early\, Middle\, and Late. Specifically for caregivers.
LOCATION:Bay Village Assisted Living 979 Bay Village Drive Annapolis\, MD 21403
UID:e.2745.4038
SEQUENCE:3
DTSTAMP:20260421T212117Z
URL:https://dev.annearundelchamber.org/events/details/living-with-alzheimer-s-4038
END:VEVENT

END:VCALENDAR
