BEGIN:VCALENDAR
VERSION:2.0
PRODID:-//ChamberMaster//Event Calendar 2.0//EN
METHOD:PUBLISH
X-PUBLISHED-TTL:P3D
REFRESH-INTERVAL:P3D
CALSCALE:GREGORIAN
BEGIN:VEVENT
DTSTART:20221023T190000Z
DTEND:20221023T210000Z
X-MICROSOFT-CDO-ALLDAYEVENT:FALSE
SUMMARY:Londontowne Symphony Orchestra Halloween Spooktacular
DESCRIPTION:The Londontowne Symphony Orchestra's Halloween Spooktacular will be a treat for kids of all ages with fun and familiar music to put everyone in the mood for witches and goblins. This concert is a great way to introduce kids to the joy and excitement of classical music with well-known selections from Andrew Lloyd Webber's Phantom of the Opera\, Alan Menken's music for Disney's Aladdin\, and John Williams' music for Indiana Jones and ET. The orchestra will also perform Camille Saint-Sa ns' Danse Macabre\, Modest Mussorgsky's Night on Bald Mountain\, and Hector Berlioz's Dream of a Witches' Sabbath from Symphonie Fantastique. Adding to the fun is a costume contest for music lovers of all ages. Prizes will be awarded.
X-ALT-DESC;FMTTYPE=text/html:The Londontowne Symphony Orchestra&rsquo\;s Halloween Spooktacular will be a treat for kids of all ages with fun and familiar music to put everyone in the mood for witches and goblins. This concert is a great way to introduce kids to the joy and excitement of classical music with well-known selections from Andrew Lloyd Webber&rsquo\;s Phantom of the Opera\, Alan Menken&rsquo\;s music for Disney&rsquo\;s Aladdin\, and John Williams&rsquo\; music for Indiana Jones and ET. The orchestra will also perform Camille Saint-Sa&euml\;ns&rsquo\; Danse Macabre\, Modest Mussorgsky&rsquo\;s Night on Bald Mountain\, and Hector Berlioz&rsquo\;s Dream of a Witches&rsquo\; Sabbath from Symphonie Fantastique. Adding to the fun is a costume contest for music lovers of all ages. Prizes will be awarded.
LOCATION:Riva Trace Baptist Church\, 475 West Central Avenue\, Davidsonville\, MD
UID:e.2745.4000
SEQUENCE:3
DTSTAMP:20260422T012649Z
URL:https://dev.annearundelchamber.org/events/details/londontowne-symphony-orchestra-halloween-spooktacular-4000
END:VEVENT

END:VCALENDAR
