BEGIN:VCALENDAR
VERSION:2.0
PRODID:-//ChamberMaster//Event Calendar 2.0//EN
METHOD:PUBLISH
X-PUBLISHED-TTL:P3D
REFRESH-INTERVAL:P3D
CALSCALE:GREGORIAN
BEGIN:VEVENT
DTSTART:20230423T233000Z
DTEND:20230424T013000Z
X-MICROSOFT-CDO-ALLDAYEVENT:FALSE
SUMMARY:Londontowne Symphony Orchestra Rising Stars Concert
DESCRIPTION:The Londontowne Symphony Orchestra's Rising Stars concert will feature three winners of LSO's annual\, state-wide Young Artist Concerto Competition in works for clarinet\, violin\, and cello. The concert also will feature the Arundel Vocal Arts Society\, JoAnn Kulesza\, Music Director\; and All Children's Chorus of Annapolis\, Lauren Walker\, Artistic Director. All will perform with the orchestra. The Young Artist competition\, held last fall\, was judged by a panel who selected winners in three categories: 1) piano\, 2) strings\, and 3) winds\, brass\, and percussion. Each winner will receive a cash prize of $250. The LSO is conducted by Dr. Anna Binneweg. As the Music Director/Conductor of the Londontowne Symphony Orchestra\, the Anne Arundel Community College Symphony Orchestra and a frequent guest conductor on the national and international scene\, Dr. Binneweg repeatedly captures audiences with her enthusiasm and passion for music. The LSO brings Central Maryland residents the excitement and passion that only live music can create. The orchestra provides high-quality\, family-friendly\, affordable classical and light classical concerts for the enrichment and enjoyment for people of all ages and backgrounds\, and provides an opportunity for professional\, student and community musicians to learn and grow under professional and experienced leadership. Tickets for the Rising Stars concert are just $25   and free for students of all ages. Tickets are available from the Maryland Hall website at this link: https://ticketing.marylandhall.org/27837/27840\, or at the door.
X-ALT-DESC;FMTTYPE=text/html:The Londontowne Symphony Orchestra&rsquo\;s Rising Stars concert will feature three winners of LSO&rsquo\;s annual\, state-wide Young Artist Concerto Competition in works for clarinet\, violin\, and cello. The concert also will feature the Arundel Vocal Arts Society\, JoAnn Kulesza\, Music Director\; and All Children&#39\;s Chorus of Annapolis\, Lauren Walker\, Artistic Director. All will perform with the orchestra. The Young Artist competition\, held last fall\, was judged by a panel who selected winners in three categories: 1) piano\, 2) strings\, and 3) winds\, brass\, and percussion. Each winner will receive a cash prize of $250. The LSO is conducted by Dr. Anna Binneweg. As the Music Director/Conductor of the Londontowne Symphony Orchestra\, the Anne Arundel Community College Symphony Orchestra and a frequent guest conductor on the national and international scene\, Dr. Binneweg repeatedly captures audiences with her enthusiasm and passion for music. The LSO brings Central Maryland residents the excitement and passion that only live music can create. The orchestra provides high-quality\, family-friendly\, affordable classical and light classical concerts for the enrichment and enjoyment for people of all ages and backgrounds\, and provides an opportunity for professional\, student and community musicians to learn and grow under professional and experienced leadership. Tickets for the Rising Stars concert are just $25 &ndash\; and free for students of all ages. Tickets are available from the Maryland Hall website at this link: https://ticketing.marylandhall.org/27837/27840\, or at the door.
LOCATION:Maryland Hall for the Performing Arts 802 Chase Street\, Annapolis MD 21401
UID:e.2745.4082
SEQUENCE:3
DTSTAMP:20260421T172521Z
URL:https://dev.annearundelchamber.org/events/details/londontowne-symphony-orchestra-rising-stars-concert-4082
END:VEVENT

END:VCALENDAR
