BEGIN:VCALENDAR
VERSION:2.0
PRODID:-//ChamberMaster//Event Calendar 2.0//EN
METHOD:PUBLISH
X-PUBLISHED-TTL:P3D
REFRESH-INTERVAL:P3D
CALSCALE:GREGORIAN
BEGIN:VEVENT
DTSTART:20230610T233000Z
DTEND:20230611T013000Z
X-MICROSOFT-CDO-ALLDAYEVENT:FALSE
SUMMARY:Londowntowne Symphony Season Finale
DESCRIPTION:The Londontowne Symphony Orchestra's season finale concert will feature violinist Qing Li of the Baltimore Symphony Orchestra performing Brahms' Violin Concerto in D major\, Op. 77. The orchestra will also play von Suppe's Poet and Peasant Overture first performed in Vienna in 1846. This "finale to remember" will conclude with Dvor k's powerful "Symphony No. 9."
X-ALT-DESC;FMTTYPE=text/html:The Londontowne Symphony Orchestra&rsquo\;s season finale concert will feature violinist Qing Li of the Baltimore Symphony Orchestra performing Brahms&rsquo\; Violin Concerto in D major\, Op. 77. The orchestra will also play von Suppe&rsquo\;s Poet and Peasant Overture first performed in Vienna in 1846. This &ldquo\;finale to remember&rdquo\; will conclude with Dvor&aacute\;k&rsquo\;s powerful &ldquo\;Symphony No. 9.&rdquo\;
LOCATION:Maryland Hall for the Creative Arts
UID:e.2745.4127
SEQUENCE:3
DTSTAMP:20260421T160234Z
URL:https://dev.annearundelchamber.org/events/details/londowntowne-symphony-season-finale-4127
END:VEVENT

END:VCALENDAR
