BEGIN:VCALENDAR
VERSION:2.0
PRODID:-//ChamberMaster//Event Calendar 2.0//EN
METHOD:PUBLISH
X-PUBLISHED-TTL:P3D
REFRESH-INTERVAL:P3D
CALSCALE:GREGORIAN
BEGIN:VEVENT
DTSTART:20201012T210000Z
DTEND:20201013T000000Z
X-MICROSOFT-CDO-ALLDAYEVENT:FALSE
SUMMARY:Main & Market Cafe Meatloaf Monday's
DESCRIPTION:Meatloaf Monday Dinner is back at Main & Market! Two Meatloaf entrees with a choice of topping\, served with mashed potatoes\, saut ed veggies and choice of side salad. Available from 5pm-8pm for Indoor & Patio Dinning\, Take-Out and Curbside Pick-Up.
X-ALT-DESC;FMTTYPE=text/html:<span style="background-color:rgb(255\, 255\, 255)\; color:rgb(5\, 5\, 5)\; font-family:segoe ui historic\,segoe ui\,helvetica\,arial\,sans-serif\; font-size:15px">Meatloaf Monday Dinner is back at </span><span style="background-color:rgb(255\, 255\, 255)\; color:rgb(5\, 5\, 5)\; font-family:segoe ui historic\,segoe ui\,helvetica\,arial\,sans-serif\; font-size:15px"><a class="oajrlxb2 g5ia77u1 qu0x051f esr5mh6w e9989ue4 r7d6kgcz rq0escxv nhd2j8a9 nc684nl6 p7hjln8o kvgmc6g5 cxmmr5t8 oygrvhab hcukyx3x jb3vyjys rz4wbd8a qt6c0cv9 a8nywdso i1ao9s8h esuyzwwr f1sip0of lzcic4wl oo9gr5id gpro0wi8 lrazzd5p" href="https://www.facebook.com/mainandmarketannapolis/?__cft__[0]=AZWUjFxscaRoA9uTSFScekQTOAt2AgrlmY59LMVyQq6EBhHtfwaZjdKZXsSrOkg10uIsyQrFXLgvDw2z77E9dC6yfUyL0eKMvPL2dlR_3DVYVfrEg_zM0eZ-yaVbnU4RGBPbKnSlzFOB6ZrPZ5LH_opjZdzAGzPknr4ks7x8W1NbGw&amp\;__tn__=kK-R" style="color: var(--primary-text)\; cursor: pointer\; text-decoration: none\; outline: none\; list-style: none\; border-width: 0px\; border-style: initial\; border-color: initial\; padding: 0px\; margin: 0px\; touch-action: manipulation\; background-color: transparent\; text-align: inherit\; font-weight: 600\; display: inline\; -webkit-tap-highlight-color: transparent\; box-sizing: border-box\; font-family: inherit\;" tabindex="0"><strong><span style="font-family:inherit">Main &amp\; Market</span></strong></a></span><span style="background-color:rgb(255\, 255\, 255)\; color:rgb(5\, 5\, 5)\; font-family:segoe ui historic\,segoe ui\,helvetica\,arial\,sans-serif\; font-size:15px">! Two Meatloaf entrees with a choice of topping\, served with mashed potatoes\, saut&eacute\;ed veggies and choice of side salad. Available from 5pm-8pm for Indoor &amp\; Patio Dinning\, Take-Out and Curbside Pick-Up.</span>
LOCATION:Main & Market Cafe 914 Bay Ridge Rd. Annapolis\, MD 21403
UID:e.2745.3484
SEQUENCE:3
DTSTAMP:20260423T093352Z
URL:https://dev.annearundelchamber.org/events/details/main-market-cafe-meatloaf-monday-s-10-12-2020-3484
END:VEVENT

END:VCALENDAR
