BEGIN:VCALENDAR
VERSION:2.0
PRODID:-//ChamberMaster//Event Calendar 2.0//EN
METHOD:PUBLISH
X-PUBLISHED-TTL:P3D
REFRESH-INTERVAL:P3D
CALSCALE:GREGORIAN
BEGIN:VEVENT
DTSTART:20201008T090000Z
DTEND:20201008T120000Z
X-MICROSOFT-CDO-ALLDAYEVENT:FALSE
SUMMARY:Main & Market Thursday Prime Rib Dinner
DESCRIPTION:-24. Prime Rib Dinner served with mashed potatoes\, saut ed vegetables\, au jus\, horseradish cream sauce and choice of side salad.
X-ALT-DESC;FMTTYPE=text/html:-24. Prime Rib Dinner served with mashed potatoes\, saut&eacute\;ed vegetables\, au jus\, horseradish cream sauce and choice of side salad.
LOCATION:Main & Market 914 Bay Ridge Rd Annapolis\, MD 21403
UID:e.2745.3284
SEQUENCE:3
DTSTAMP:20260423T104321Z
URL:https://dev.annearundelchamber.org/events/details/main-market-thursday-prime-rib-dinner-10-08-2020-3284
END:VEVENT

END:VCALENDAR
