BEGIN:VCALENDAR
VERSION:2.0
PRODID:-//ChamberMaster//Event Calendar 2.0//EN
METHOD:PUBLISH
X-PUBLISHED-TTL:P3D
REFRESH-INTERVAL:P3D
CALSCALE:GREGORIAN
BEGIN:VEVENT
DTSTART:20200916T210000Z
DTEND:20200917T000000Z
X-MICROSOFT-CDO-ALLDAYEVENT:FALSE
SUMMARY:Main & Market Wine Down Wednesday & Italian Night
DESCRIPTION:Wednesday Nights are now 1/2 Bottled Wine and Italian Themed Entr e Night at Main & Market Cafe from 5-8pm. https://mainandmarket.com/daily-specials/
X-ALT-DESC;FMTTYPE=text/html:<span style="background-color:rgb(255\, 255\, 255)\; color:rgb(5\, 5\, 5)\; font-family:segoe ui historic\,segoe ui\,helvetica\,arial\,sans-serif\; font-size:15px">Wednesday Nights are now 1/2 Bottled Wine and Italian Themed Entr&eacute\;e Night at<font color="#001000" face="sans-serif\,Arial\,Verdana\,&quot\;Trebuchet MS&quot\;" size="2"> </font></span><span style="background-color:rgb(255\, 255\, 255)\; color:rgb(5\, 5\, 5)\; font-family:segoe ui historic\,segoe ui\,helvetica\,arial\,sans-serif\; font-size:15px"><a class="oajrlxb2 g5ia77u1 qu0x051f esr5mh6w e9989ue4 r7d6kgcz rq0escxv nhd2j8a9 nc684nl6 p7hjln8o kvgmc6g5 cxmmr5t8 oygrvhab hcukyx3x jb3vyjys rz4wbd8a qt6c0cv9 a8nywdso i1ao9s8h esuyzwwr f1sip0of lzcic4wl oo9gr5id gpro0wi8 lrazzd5p" href="https://www.facebook.com/mainandmarketannapolis/?__cft__[0]=AZUMkju1TCIVL8qy-IxOxDzeWCUZGlDpvN6wbBytwwpBi87AC17xyma0pr6GbgRgQIG2dml-BHcTTnGK2BnoP2vmDRGiFKUzJYE2RDKoR5aZ-8BeN5QCirtKAWEM_PG77yBWe_uyUwqUCyJsWt1CMOF4kmkbkveMUvww6fgr4NnFxA&amp\;__tn__=kK-R" style="color: var(--primary-text)\; cursor: pointer\; text-decoration: none\; outline: none\; list-style: none\; border-width: 0px\; border-style: initial\; border-color: initial\; padding: 0px\; margin: 0px\; touch-action: manipulation\; background-color: transparent\; text-align: inherit\; font-weight: 600\; display: inline\; -webkit-tap-highlight-color: transparent\; box-sizing: border-box\; font-family: inherit\;" tabindex="0"><strong><span style="font-family:inherit">Main &amp\; Market</span></strong></a></span><span style="background-color:rgb(255\, 255\, 255)\; color:rgb(5\, 5\, 5)\; font-family:segoe ui historic\,segoe ui\,helvetica\,arial\,sans-serif\; font-size:15px"> Cafe from 5-8pm. </span><span style="background-color:rgb(255\, 255\, 255)\; color:rgb(5\, 5\, 5)\; font-family:segoe ui historic\,segoe ui\,helvetica\,arial\,sans-serif\; font-size:15px"><a class="oajrlxb2 g5ia77u1 qu0x051f esr5mh6w e9989ue4 r7d6kgcz rq0escxv nhd2j8a9 nc684nl6 p7hjln8o kvgmc6g5 cxmmr5t8 oygrvhab hcukyx3x jb3vyjys rz4wbd8a qt6c0cv9 a8nywdso i1ao9s8h esuyzwwr f1sip0of lzcic4wl py34i1dx gpro0wi8" href="https://mainandmarket.com/daily-specials/?fbclid=IwAR2h3TSgZ5maIB68IHPNFyX0WZwToX5DUsCQRav8ToGpoIZD7lNoOVMKS74" rel="nofollow noopener" style="color: var(--blue-link)\; cursor: pointer\; text-decoration: none\; outline: none\; list-style: none\; border-width: 0px\; border-style: initial\; border-color: initial\; padding: 0px\; margin: 0px\; touch-action: manipulation\; background-color: transparent\; text-align: inherit\; display: inline\; -webkit-tap-highlight-color: transparent\; box-sizing: border-box\; font-family: inherit\;" tabindex="0" target="_blank">https://mainandmarket.com/daily-specials/</a></span>
LOCATION:Main & Market Cafe 914 Bay Ridge Rd. Annapolis\, MD 21403
UID:e.2745.3081
SEQUENCE:3
DTSTAMP:20260423T105742Z
URL:https://dev.annearundelchamber.org/events/details/main-market-wine-down-wednesday-italian-night-3081
END:VEVENT

END:VCALENDAR
