BEGIN:VCALENDAR
VERSION:2.0
PRODID:-//ChamberMaster//Event Calendar 2.0//EN
METHOD:PUBLISH
X-PUBLISHED-TTL:P3D
REFRESH-INTERVAL:P3D
CALSCALE:GREGORIAN
BEGIN:VEVENT
DTSTART:20200930T190000Z
DTEND:20200930T210000Z
X-MICROSOFT-CDO-ALLDAYEVENT:FALSE
SUMMARY:Meet the Artist - John O'Neill Cafe Art Show
DESCRIPTION:Local artist\, John O'Neill will be in the Caf  Wednesday afternoon\, September 30th to discuss his artwork with guests and sell his pieces. John\, a graduate of Maryland Institute College of Art\, Anne Arundel County Art Teacher and friend of Main & Market has pieces that continue to evolve and depict Maryland scenery and skylines. Complementary small bites will be offered\, masks and spacing will be enforced\, minimum of 10 standing inside at a time.
X-ALT-DESC;FMTTYPE=text/html:<span style="background-color:rgb(255\, 255\, 255)\; color:rgb(29\, 33\, 41)\; font-family:helvetica\,arial\,sans-serif\; font-size:14px">Local artist\, John O&rsquo\;Neill will be in the Caf&eacute\; Wednesday afternoon\, September 30th to discuss his artwork with guests and sell his pieces. John\, a graduate of Maryland Institute College of Art\, Anne Arundel County Art Teacher and friend of Main &amp\; Market has pieces that continue to evolve and depict Maryland scenery and skylines. Complementary small bites will be offered\, masks and spacing will be enforced\, minimum of 10 standing inside at a time.</span>
LOCATION:Main & Market Cafe 914 Bay Ridge Rd. Annapolis\, MD 21403
UID:e.2745.2680
SEQUENCE:3
DTSTAMP:20260423T110427Z
URL:https://dev.annearundelchamber.org/events/details/meet-the-artist-john-o-neill-cafe-art-show-2680
END:VEVENT

END:VCALENDAR
