BEGIN:VCALENDAR
VERSION:2.0
PRODID:-//ChamberMaster//Event Calendar 2.0//EN
METHOD:PUBLISH
X-PUBLISHED-TTL:P3D
REFRESH-INTERVAL:P3D
CALSCALE:GREGORIAN
BEGIN:VEVENT
DTSTART:20220412T210000Z
DTEND:20220412T230000Z
X-MICROSOFT-CDO-ALLDAYEVENT:FALSE
SUMMARY:Membership Madness Wrap Up Mixer & 101
DESCRIPTION:It's the last day of the Membership Madness Promotion! On 4/12\, we'll have a wrap up Mixer at Rodizio Grill so you can network with the new members as well as learn how to utilize all your new membership benefits!\n\n\n\nJoin before 4/12 and receive a free ticket! Non-members that attend and join within 7 days\, will receive an additional $20 credit back for their ticket purchase.
X-ALT-DESC;FMTTYPE=text/html:It&#39\;s the last day of the Membership Madness Promotion! On 4/12\, we&#39\;ll have a wrap up Mixer at Rodizio Grill so you can network with the new members as well as learn how to utilize all your new membership benefits!<br />\n<br />\nJoin before 4/12 and receive a free ticket! Non-members that attend and join within 7 days\, will receive an additional $20 credit back for their ticket purchase.
LOCATION:Rodizio Grill Annapolis Mall (next to Bowtie Movie Theatre Entrance)
UID:e.2745.3920
SEQUENCE:3
DTSTAMP:20260422T103641Z
URL:https://dev.annearundelchamber.org/events/details/membership-madness-wrap-up-mixer-101-3920
END:VEVENT

END:VCALENDAR
