BEGIN:VCALENDAR
VERSION:2.0
PRODID:-//ChamberMaster//Event Calendar 2.0//EN
METHOD:PUBLISH
X-PUBLISHED-TTL:P3D
REFRESH-INTERVAL:P3D
CALSCALE:GREGORIAN
BEGIN:VEVENT
DTSTART:20201006T230000Z
DTEND:20201007T010000Z
X-MICROSOFT-CDO-ALLDAYEVENT:FALSE
SUMMARY:Mindfulness for Parents
DESCRIPTION:The Wye River Upper School Speaker Series is pleased to announce a four-part workshop designed to help parents cope with the stress of parenting in a time of covid. The series is free and open to the public\, and is offered virtually on Tuesdays in October.
X-ALT-DESC;FMTTYPE=text/html:The Wye River Upper School Speaker Series is pleased to announce a four-part workshop designed to help parents cope with the stress of parenting in a time of covid. The series is free and open to the public\, and is offered virtually on Tuesdays in October.
LOCATION:Virtual
UID:e.2745.3487
SEQUENCE:3
DTSTAMP:20260423T093115Z
URL:https://dev.annearundelchamber.org/events/details/mindfulness-for-parents-3487
END:VEVENT

END:VCALENDAR
