BEGIN:VCALENDAR
VERSION:2.0
PRODID:-//ChamberMaster//Event Calendar 2.0//EN
METHOD:PUBLISH
X-PUBLISHED-TTL:P3D
REFRESH-INTERVAL:P3D
CALSCALE:GREGORIAN
BEGIN:VEVENT
DTSTART:20230514T140000Z
DTEND:20230514T160000Z
X-MICROSOFT-CDO-ALLDAYEVENT:FALSE
SUMMARY:Mother's Day Cruise in Annapolis
DESCRIPTION:Treat the moms in your life to a lovely brunch cruise this Mother's Day. Our luxury yacht\, Catherine Marie\, will take you out on the water for a 2-hour cruise with live music by Guava Jelly. Included in the ticket is a brunch buffet by Bayside Catering and one complimentary Momosa for moms. To ensure you are seated with people you know\, you must purchase all available seats at your table. Please specify if you will be joining another party.
X-ALT-DESC;FMTTYPE=text/html:<span style="background-color:rgb(255\, 255\, 255)\; color:rgb(2\, 15\, 20)\; font-family:roboto\,sans-serif\; font-size:18px">Treat the moms in your life to a lovely brunch cruise this Mother&#39\;s Day. Our luxury yacht\, Catherine Marie\, will take you out on the water for a 2-hour cruise with live music by Guava Jelly. Included in the ticket is a brunch buffet by Bayside Catering and one complimentary Momosa for moms. To ensure you are seated with people you know\, you must purchase all available seats at your table. Please specify if you will be joining another party.</span>
LOCATION:Annapolis City Dock One Dock St Annapolis\, MD 21401
UID:e.2745.4058
SEQUENCE:3
DTSTAMP:20260421T160500Z
URL:https://dev.annearundelchamber.org/events/details/mother-s-day-cruise-in-annapolis-05-14-2023-4058
END:VEVENT

END:VCALENDAR
