BEGIN:VCALENDAR
VERSION:2.0
PRODID:-//ChamberMaster//Event Calendar 2.0//EN
METHOD:PUBLISH
X-PUBLISHED-TTL:P3D
REFRESH-INTERVAL:P3D
CALSCALE:GREGORIAN
BEGIN:VEVENT
DTSTART:20230420T140000Z
DTEND:20230420T150000Z
X-MICROSOFT-CDO-ALLDAYEVENT:FALSE
SUMMARY:Moving Forward Seminar: How EOS Can Help Your Business
DESCRIPTION:How the Entrepreneurial Operation System can help your business.\n\n \n\nThe Entrepreneurial Operating System (EOS) is a set of simple concepts and practical tools created by Gino Wickman and gained worldwide acceptance with his bestselling book\, "Traction: Get a Grip on your Business." EOS is used by more than 190\,000+ companies around the world to clarify\, simplify\, and achieve their vision. It is a proven system that consistently helps companies achieve more revenue\, growth and profit while delivering a better balance of life to business owners and leaders.\n\n\n\nEOS can be implemented in almost any size business and can be a real game changer. Join us and learn from Jerry South\, founder of Towne Park and Thrive Workplace\, on how he has implemented EOS to grow his businesses.
X-ALT-DESC;FMTTYPE=text/html:<strong><span style="font-size:14.0pt\;">How the Entrepreneurial Operation System can help your business</span>.</strong><br />\n&nbsp\;<br />\n<span style="color:black\;">The Entrepreneurial Operating System (EOS) is a set of simple concepts and practical tools created by Gino Wickman and gained worldwide acceptance with his bestselling book\, <em>&ldquo\;Traction: Get a Grip on your Business.&rdquo\;</em> EOS is used by more than 190\,000+ companies around the world to clarify\, simplify\, and achieve their vision. It&nbsp\;<span style="border:none windowtext 1.0pt\;padding:0in\;">is a proven system that consistently helps companies achieve more revenue\, growth and profit while delivering a better balance of life to business owners and leaders.</span></span><br />\n<br />\n<span style="border:none windowtext 1.0pt\;padding:0in\;"><font color="#000000">EOS can be implemented in almost any size business and can be a real game changer. Join us and learn from Jerry South\, founder of Towne Park and Thrive Workplace\, on how he has implemented&nbsp\;EOS to grow his businesses.&nbsp\;</font></span>
LOCATION:Thrive Workplace 115 West St. Annapolis. MD
UID:e.2745.4077
SEQUENCE:3
DTSTAMP:20260421T172319Z
URL:https://dev.annearundelchamber.org/events/details/moving-forward-seminar-how-eos-can-help-your-business-4077
END:VEVENT

END:VCALENDAR
